BEGIN:VCALENDAR
VERSION:2.0
PRODID:-//wp-events-plugin.com//7.2.3.1//EN
TZID:America/Detroit
X-WR-TIMEZONE:America/Detroit
BEGIN:VEVENT
UID:35995@arabamerica.com
DTSTART;TZID=America/Detroit:20260416T183000
DTEND;TZID=America/Detroit:20260416T210000
DTSTAMP:20260307T211442Z
URL:https://www.arabamerica.com/events/screening-of-ziyara/
SUMMARY:Screening of Ziyara
DESCRIPTION:Ziyara is both a meditation on migration and a hopeful reflecti
 on on shared heritage\, revealing a delicate thread between past and prese
 nt\, tradition and modernity. As the camera gathers stories\, smiles\, and
  blessings\, it patiently repairs connections long thought severed.
ATTACH;FMTTYPE=image/jpeg:https://www.arabamerica.com/wp-content/uploads/2
 026/03/image-42.webp
CATEGORIES:Film,Film Screening,Interfaith Understanding,Jews and
 Arabs,moroccan
LOCATION:Maison Française East Gallery Buell Hall\, 515 West 116th Street\
 , New York \, United States
GEO:40.807717;-73.961428
X-APPLE-STRUCTURED-LOCATION;VALUE=URI;X-ADDRESS=515 West 116th Street\, New
  York \, United States;X-APPLE-RADIUS=100;X-TITLE=Maison Française East G
 allery Buell Hall:geo:40.807717,-73.961428
END:VEVENT
BEGIN:VTIMEZONE
TZID:America/Detroit
X-LIC-LOCATION:America/Detroit
BEGIN:DAYLIGHT
DTSTART:20260308T030000
TZOFFSETFROM:-0500
TZOFFSETTO:-0400
TZNAME:EDT
END:DAYLIGHT
END:VTIMEZONE
END:VCALENDAR