BEGIN:VCALENDAR
VERSION:2.0
PRODID:-//wp-events-plugin.com//7.2.3.1//EN
TZID:America/Detroit
X-WR-TIMEZONE:America/Detroit
BEGIN:VEVENT
UID:35119@arabamerica.com
DTSTART;TZID=America/Detroit:20250920T160000
DTEND;TZID=America/Detroit:20250920T180000
DTSTAMP:20250915T211653Z
URL:https://www.arabamerica.com/events/screening-panel-talk-gazas-silent-t
 hreat-a-unicef-documentary/
SUMMARY:Screening & Panel Talk: Gaza’s Silent Threat\, a UNICEF documenta
 ry
DESCRIPTION:BRONX\, NY\n\n\n\n\n\nJoin us for a screening and panel talk on
  the UNICEF short documentary\, Gaza's Silent Threat. The film follows Doc
 tor Younis\, a devoted father and grandfather\, as he returns from retirem
 ent to vaccinate over 600\,000 children against polio in Gaza—in the mid
 st of the war. This is not just a film about a polio vaccination campaign\
 , but one about the direct and indirect impacts of war on children’s hea
 lth\, and the lives of children and families living in the context of conf
 lict and emergencies.\n\nFollowing the screening\, director Maria Lauret a
 nd producer Juan Haro will speak about the process and challenges of creat
 ing this film\, and be available for a Q&amp\;A session.\n\nBios\n\nMaria 
 Lauret is a three-time Emmy-nominated multimedia producer and post-product
 ion lead with over a decade of experience in visual storytelling. Prior to
  her role with UNICEF\, Lauret worked at Al Jazeera and has collaborated w
 ith global organizations such as Amnesty International and Greenpeace.\n\n
 Juan Haro works with UNICEF’s Global Division of Communications and Advo
 cacy\, where he oversees multimedia content that connects global and local
  audiences with urgent humanitarian and child rights issues. He previously
  served with UNICEF in Niger and Burundi\, MSF in Chad\, UNHCR\, and the U
 N in New York. His work has been featured in The New York Times\, BBC\, Na
 tional Geographic\, Al Jazeera\, The Guardian\, El País\, and others.\n\n
 \n\n\n\n\n\n\n\n\n\n\n\n© UNICEF/Media Clinic\n\n\n\n\n\n\n\n\n\n\n\n\n\n
 © UNICEF/Hardly Skills\n\n&nbsp\;\n\n\n
ATTACH;FMTTYPE=image/jpeg:https://www.arabamerica.com/wp-content/uploads/2
 025/09/https-cdn.evbuc_.com-images-1113307533-416801717709-1-original.2025
 0903-181001.jpeg
LOCATION:Bronx Documentary Center\, 614 Courtlandt Avenue \, Bronx\, NY\, 1
 0451\, United States
GEO:40.818006;-73.918645
X-APPLE-STRUCTURED-LOCATION;VALUE=URI;X-ADDRESS=614 Courtlandt Avenue \, Br
 onx\, NY\, 10451\, United States;X-APPLE-RADIUS=100;X-TITLE=Bronx Document
 ary Center:geo:40.818006,-73.918645
END:VEVENT
BEGIN:VTIMEZONE
TZID:America/Detroit
X-LIC-LOCATION:America/Detroit
BEGIN:DAYLIGHT
DTSTART:20250309T030000
TZOFFSETFROM:-0500
TZOFFSETTO:-0400
TZNAME:EDT
END:DAYLIGHT
END:VTIMEZONE
END:VCALENDAR