BEGIN:VCALENDAR
VERSION:2.0
PRODID:-//wp-events-plugin.com//7.2.3.1//EN
TZID:America/Detroit
X-WR-TIMEZONE:America/Detroit
BEGIN:VEVENT
UID:34672@arabamerica.com
DTSTART;TZID=America/Detroit:20250803T080000
DTEND;TZID=America/Detroit:20250803T120000
DTSTAMP:20250625T034933Z
URL:https://www.arabamerica.com/events/seattle-gaza-5k-walk-run/
SUMMARY:Seattle Gaza 5k walk/run
DESCRIPTION:SEATTLE\, WA\nSeattle Gaza 5K walk/run\n\n 	Sunday\, August 3\,
  2025\n 	8:00 AM  12:00 PM\n\n\n 	Marymoor Park6046 West Lake Sammam
 ish Parkway NortheastRedmond\, WA\, 98052United States (map)\n\n\n 	Googl
 e Calendar  ICS\n 	Sunday\, August 3rd in Marymoor Park in Redmond\, Was
 hington\nUNRWA USA is bringing our most iconic event to the Pacific Northw
 est for the very first time. This is your chance to provide critical psych
 osocial support to the millions impacted by the ongoing Israeli military a
 ssault on Gaza. This event includes an optional 5K walk/run\, fundraising 
 prizes\, community\, and as much Palestinian culture as we can squeeze int
 o your morning. The Gaza 5K is your chance to meet and connect with folks 
 who share your solidarity and commitment to the mental well-being of refug
 ees.\nNot in the Seattle area or prefer to participate from home? You may 
 also choose the virtual option!\nRegistration is now open\, use the code E
 ARLYBIRD to save $10 on each ticket (prices go up after July 4th)\n\n
ATTACH;FMTTYPE=image/jpeg:https://www.arabamerica.com/wp-content/uploads/2
 025/06/Screen-Shot-2025-06-24-at-11.48.58-PM.png
LOCATION:Marymoor Park\, 6046 West Lake Sammamish Parkway Northeast\, Redmo
 nd\, WA\, 98052\, United States
GEO:47.663129;-122.12065
X-APPLE-STRUCTURED-LOCATION;VALUE=URI;X-ADDRESS=6046 West Lake Sammamish Pa
 rkway Northeast\, Redmond\, WA\, 98052\, United States;X-APPLE-RADIUS=100;
 X-TITLE=Marymoor Park:geo:47.663129,-122.12065
END:VEVENT
BEGIN:VTIMEZONE
TZID:America/Detroit
X-LIC-LOCATION:America/Detroit
BEGIN:DAYLIGHT
DTSTART:20250309T030000
TZOFFSETFROM:-0500
TZOFFSETTO:-0400
TZNAME:EDT
END:DAYLIGHT
END:VTIMEZONE
END:VCALENDAR