BEGIN:VCALENDAR
VERSION:2.0
PRODID:-//wp-events-plugin.com//7.2.3.1//EN
TZID:America/Detroit
X-WR-TIMEZONE:America/Detroit
BEGIN:VEVENT
UID:35765@arabamerica.com
DTSTART;TZID=America/Los_Angeles:20260215T110000
DTEND;TZID=America/Los_Angeles:20260215T150000
DTSTAMP:20260127T175627Z
URL:https://www.arabamerica.com/events/seeds-for-liberation-seattle-premie
 re/
SUMMARY:"Seeds for Liberation" Seattle Premiere!
DESCRIPTION:\n\n\nJoin us in Seattle for a screening of the new documentary
  film\, "Seeds for Liberation\," by director Matthew Solomon ("Reimagining
  Safety")\n\n\n\n\n\nDon’t miss the "Seeds for Liberation" Seattle Premi
 ere on February 15th!\nThe new documentary from Matthew Solomon &amp\; Don
 na Hadjikhani ("Reimagining Safety")\, and Alana Hadid\, highlights the Fr
 ee Palestine movement and its connections to Black\, Chicano\, and collect
 ive liberation. Featuring some of the biggest names in the movement\, from
  Palestine to Stop Cop City\, "Seeds for Liberation" is both powerful and 
 inspiring\, spanning decades of solidarity and culminating in reflections 
 on what liberation and a free Palestine truly mean.\n\nSunday\, February 1
 5th\, at 11:00 am\n\nRaisbeck Auditorium at the Ivey Tower\n\n2017 Boren A
 ve Seattle WA 98121\n\n**Tickets are free\, and there are donation options
  to support the film.\n\n**Doors open at 11 am. The movie begins at 12 noo
 n.\n\nA panel discussion follows\, featuring members from the film: Dr. Mi
 mi Syed\, Ayman Nijim\, Synth\, and Director Matthew Solomon.\n\nCast Incl
 udes:\n\nDr. Noura Erakat\n\nAbby Martin\n\nDr. Mimi Syed\n\nSammy Obeid\n
 \nMoath Hamzeh (Mo Hamz)\n\nMimi Abu Ghazaleh\n\nDhoruba bin Wahad\n\nLuci
 ux Riker\n\nLara Elborno\n\nReverend Keyanna Jones Moore\n\nMary Hooks\n\n
 Chuck Modiano\n\nSim Kern\n\nYousef Khafaja\n\nAyman Nijim\n\nMichael Schi
 rtzer\n\nSynth\n\nErnesto Ayala\n\nMark Wayne\n\nRicci Sergienko\n\nOrigin
 al Poetry by:\n\nAmanee Izhaq\n\nOriginal Music by:\n\nThe Neighborhood Ki
 ds\n\nOzomatli\n\nDivina Salam\n\nUSvsTHEM\n\nDaii Dreamin\n\n\n\n\n\n
ATTACH;FMTTYPE=image/jpeg:https://www.arabamerica.com/wp-content/uploads/2
 026/01/image-1-4.webp
LOCATION:RAD Raisbeck Auditorium Cornish\, 2017 Boren Avenue\, Seattle\, WA
 \, 98121\, United States
GEO:47.618023;-122.335081
X-APPLE-STRUCTURED-LOCATION;VALUE=URI;X-ADDRESS=2017 Boren Avenue\, Seattle
 \, WA\, 98121\, United States;X-APPLE-RADIUS=100;X-TITLE=RAD Raisbeck Audi
 torium Cornish:geo:47.618023,-122.335081
END:VEVENT
BEGIN:VTIMEZONE
TZID:America/Los_Angeles
X-LIC-LOCATION:America/Los_Angeles
BEGIN:STANDARD
DTSTART:20251102T010000
TZOFFSETFROM:-0700
TZOFFSETTO:-0800
TZNAME:PST
END:STANDARD
END:VTIMEZONE
END:VCALENDAR