BEGIN:VCALENDAR
VERSION:2.0
PRODID:-//wp-events-plugin.com//7.2.3.1//EN
TZID:America/Detroit
X-WR-TIMEZONE:America/Detroit
BEGIN:VEVENT
UID:36228@arabamerica.com
DTSTART;TZID=America/Detroit:20260909T180000
DTEND;TZID=America/Detroit:20260909T220000
DTSTAMP:20260421T213234Z
URL:https://www.arabamerica.com/events/semiramis-2/
SUMMARY:SEMIRAMIS
DESCRIPTION:PLEASE JOIN US FOR A Mother's Day MAY\nSATURDAY 9\, 2026\n6 PM 
 - 10PM\nTHE HANGING GARDENS CAFE
ATTACH;FMTTYPE=image/jpeg:https://www.arabamerica.com/wp-content/uploads/2
 026/04/PHOTO-2026-04-21-11-13-35.jpeg
CATEGORIES:Community,culture
END:VEVENT
BEGIN:VTIMEZONE
TZID:America/Detroit
X-LIC-LOCATION:America/Detroit
BEGIN:DAYLIGHT
DTSTART:20260308T030000
TZOFFSETFROM:-0500
TZOFFSETTO:-0400
TZNAME:EDT
END:DAYLIGHT
END:VTIMEZONE
END:VCALENDAR