BEGIN:VCALENDAR
VERSION:2.0
PRODID:-//wp-events-plugin.com//7.2.3.1//EN
TZID:America/Detroit
X-WR-TIMEZONE:America/Detroit
BEGIN:VEVENT
UID:35249@arabamerica.com
DTSTART;TZID=America/Detroit:20251101T190000
DTEND;TZID=America/Detroit:20251101T230000
DTSTAMP:20251014T170819Z
URL:https://www.arabamerica.com/events/shame-e-ghazal-nov-1/
SUMMARY:Shame e Ghazal Nov 1
DESCRIPTION:IRVING\, TX\n\nGhazal is expression of love in Urdu poetic trad
 ition. Complex human emotions are presented in few words\n\n&nbsp\;
ATTACH;FMTTYPE=image/jpeg:https://www.arabamerica.com/wp-content/uploads/2
 025/10/Screenshot-2025-10-14-at-1.05.56-PM.png
LOCATION:TEXAS KING Restaurant & Meat\, 3455 North Belt Line Road #103\, Ir
 ving\, TX\, 75062\, United States
GEO:32.85403;-96.993218
X-APPLE-STRUCTURED-LOCATION;VALUE=URI;X-ADDRESS=3455 North Belt Line Road #
 103\, Irving\, TX\, 75062\, United States;X-APPLE-RADIUS=100;X-TITLE=TEXAS
  KING Restaurant & Meat:geo:32.85403,-96.993218
END:VEVENT
BEGIN:VTIMEZONE
TZID:America/Detroit
X-LIC-LOCATION:America/Detroit
BEGIN:DAYLIGHT
DTSTART:20250309T030000
TZOFFSETFROM:-0500
TZOFFSETTO:-0400
TZNAME:EDT
END:DAYLIGHT
END:VTIMEZONE
END:VCALENDAR