BEGIN:VCALENDAR
VERSION:2.0
PRODID:-//wp-events-plugin.com//7.2.3.1//EN
TZID:America/Detroit
X-WR-TIMEZONE:America/Detroit
BEGIN:VEVENT
UID:34064@arabamerica.com
DTSTART;TZID=America/Detroit:20250219T173000
DTEND;TZID=America/Detroit:20250219T213000
DTSTAMP:20250217T210319Z
URL:https://www.arabamerica.com/events/share-the-love-maza-night/
SUMMARY:Share the Love Maza Night
DESCRIPTION:\n\nJoin Karimah for a delicious night of authentic Lebanese ma
 za dishes to share with friends or family.\n\n\n\n\n\n\n\n\n\n\n\n\n
ATTACH;FMTTYPE=image/jpeg:https://www.arabamerica.com/wp-content/uploads/2
 025/02/Screenshot-2025-02-17-at-3.08.10 PM.png
CATEGORIES:Arab,Arab American,Community,culture,Food
LOCATION:Food Barn\, 244 Amesbury Road\, Kensington\, NH\, 03833\, United S
 tates
GEO:42.908279;-70.926026
X-APPLE-STRUCTURED-LOCATION;VALUE=URI;X-ADDRESS=244 Amesbury Road\, Kensing
 ton\, NH\, 03833\, United States;X-APPLE-RADIUS=100;X-TITLE=Food Barn:geo:
 42.908279,-70.926026
END:VEVENT
BEGIN:VTIMEZONE
TZID:America/Detroit
X-LIC-LOCATION:America/Detroit
BEGIN:STANDARD
DTSTART:20241103T010000
TZOFFSETFROM:-0400
TZOFFSETTO:-0500
TZNAME:EST
END:STANDARD
END:VTIMEZONE
END:VCALENDAR