BEGIN:VCALENDAR
VERSION:2.0
PRODID:-//wp-events-plugin.com//7.2.3.1//EN
TZID:America/Detroit
X-WR-TIMEZONE:America/Detroit
BEGIN:VEVENT
UID:35455@arabamerica.com
DTSTART;TZID=America/Detroit:20260124T170000
DTEND;TZID=America/Detroit:20260124T170000
DTSTAMP:20251124T101031Z
URL:https://www.arabamerica.com/events/share-this-event-like-event-nannas-
 sudanese-cuisine-cultural-and-story-telling-night/
SUMMARY:Nanna's Sudanese Cuisine Cultural and Story Telling Night
DESCRIPTION:ATLANTA\, GA\n\n\n\nJoin us for a night of delicious Sudanese c
 uisine\, cultural\, and captivating storytelling by Nanna - it's going to 
 be an unforgettable\n\n\n\n\nExperience the Heart of Sudan Through Food\, 
 Fashion\, and Storytelling\nJoin us for an unforgettable evening celebrati
 ng Sudanese culture\, resilience\, and community. Hosted by Ikhlas Mohamme
 d and inspired by her mother\, Magboula Yousif—affectionately known as N
 anna—this event brings together traditional cuisine\, personal storytell
 ing\, and immersive cultural experiences.\n\n&#x1f554\; Date &amp\; Time: 
 Saturday\, January 24· 5–8 PM (Doors open at 4:45 PM)\n&#x1f4cd\; Locat
 ion: Chow A La Carte / Uptown Test Kitchen\, 2440 Piedmont Rd NE\, Atlanta
 \, GA 30344\n&#x1f39f\;&#xfe0f\; Tickets: $65 General Admission (includes 
 dinner\, dessert\, coffee/tea\, henna\, photo booth\, and take-home gifts)
 \n\nHighlights Include:\n\n 	A heartfelt introduction to Nanna’s story a
 nd the legacy behind Nanna’s Sudanese Cuisine\n 	Interactive storytellin
 g and cultural exchange over traditional Sudanese snacks\n 	A full Sudanes
 e dinner featuring rich flavors\, sweet dessert\, and traditional coffee o
 r tea\n 	Henna art by local artists\n 	Sudanese fashion try-ons with the e
 legant Toob and Jalabiya dresses\n 	A photo booth to capture your experien
 ce in traditional attire\n 	Take-home recipe cards\, spice samples\, and s
 mall gifts to continue your cultural journey\n 	Enjoy Sudanese Music while
  enjoying all this good stuff.\n\n\n\n\n\n\n\n\n\n
ATTACH;FMTTYPE=image/jpeg:https://www.arabamerica.com/wp-content/uploads/2
 025/11/https-cdn.evbuc_.com-images-1170929987-2869955319981-1-original.202
 51113-235328.jpeg
LOCATION:Chow A La Carte / Uptown Test Kitchen\, 2440 Piedmont Road Northea
 st\, Atlanta \, GA\, 30344\, United States
GEO:33.821958;-84.367718
X-APPLE-STRUCTURED-LOCATION;VALUE=URI;X-ADDRESS=2440 Piedmont Road Northeas
 t\, Atlanta \, GA\, 30344\, United States;X-APPLE-RADIUS=100;X-TITLE=Chow 
 A La Carte / Uptown Test Kitchen:geo:33.821958,-84.367718
END:VEVENT
BEGIN:VTIMEZONE
TZID:America/Detroit
X-LIC-LOCATION:America/Detroit
BEGIN:STANDARD
DTSTART:20251102T010000
TZOFFSETFROM:-0400
TZOFFSETTO:-0500
TZNAME:EST
END:STANDARD
END:VTIMEZONE
END:VCALENDAR