BEGIN:VCALENDAR
VERSION:2.0
PRODID:-//wp-events-plugin.com//7.2.3.1//EN
TZID:America/Detroit
X-WR-TIMEZONE:America/Detroit
BEGIN:VEVENT
UID:35588@arabamerica.com
DTSTART;TZID=America/Detroit:20260103T110000
DTEND;TZID=America/Detroit:20260103T110000
DTSTAMP:20251216T193905Z
URL:https://www.arabamerica.com/events/share-this-event-like-event-palesti
 nian-fashion-show-bazar/
SUMMARY:Share this event  Like Event Palestinian Fashion Show - BAZAR
DESCRIPTION:STATEN ISLAND\, NY\n\n\n\nGet ready to experience the vibrant a
 nd unique Palestinian fashion scene at our BAZAR - it's going to be a styl
 ish and cultural extravaganza\n\n\n\n\nWelcome to the Palestinian Fashion 
 Show - BAZAR! Join us for a night of cultural celebration and style at the
  Grand Colony Hall. Witness the beauty of Palestinian fashion showcased th
 rough intricate designs and traditional garments. Immerse yourself in the 
 rich heritage and creativity of Palestinian artisans and designers. Don't 
 miss this opportunity to experience the vibrant colors and patterns that d
 efine Palestinian fashion. Get ready to be inspired and dazzled by the tal
 ent on display. See you there!\n\n\n
ATTACH;FMTTYPE=image/jpeg:https://www.arabamerica.com/wp-content/uploads/2
 025/12/https-cdn.evbuc_.com-images-1171020375-2983486887578-1-original.png
 .jpeg
LOCATION:Grand Colony Hall\, 460 Brielle Avenue \, Staten Island \, NY\, 10
 314\, United States
GEO:40.591225;-74.132386
X-APPLE-STRUCTURED-LOCATION;VALUE=URI;X-ADDRESS=460 Brielle Avenue \, State
 n Island \, NY\, 10314\, United States;X-APPLE-RADIUS=100;X-TITLE=Grand Co
 lony Hall:geo:40.591225,-74.132386
END:VEVENT
BEGIN:VTIMEZONE
TZID:America/Detroit
X-LIC-LOCATION:America/Detroit
BEGIN:STANDARD
DTSTART:20251102T010000
TZOFFSETFROM:-0400
TZOFFSETTO:-0500
TZNAME:EST
END:STANDARD
END:VTIMEZONE
END:VCALENDAR