BEGIN:VCALENDAR
VERSION:2.0
PRODID:-//wp-events-plugin.com//7.2.3.1//EN
TZID:America/Detroit
X-WR-TIMEZONE:America/Detroit
BEGIN:VEVENT
UID:34666@arabamerica.com
DTSTART;TZID=America/Detroit:20250629T120000
DTEND;TZID=America/Detroit:20250629T170000
DTSTAMP:20250625T015718Z
URL:https://www.arabamerica.com/events/sidewalk-fundraiser-for-the-ghassan
 -abu-sittah-childrens-fund/
SUMMARY:Sidewalk Fundraiser for the Ghassan Abu Sittah Children's Fund
DESCRIPTION:WASHINGTON\, DC\n\n&nbsp\;\n\n&nbsp\;
ATTACH;FMTTYPE=image/jpeg:https://www.arabamerica.com/wp-content/uploads/2
 025/06/unnamed-16.png
LOCATION:The Middle East Books\, 1902 18th Street NW\, Washington\, DC\, 20
 009\, United States
GEO:38.915848;-77.041884
X-APPLE-STRUCTURED-LOCATION;VALUE=URI;X-ADDRESS=1902 18th Street NW\, Washi
 ngton\, DC\, 20009\, United States;X-APPLE-RADIUS=100;X-TITLE=The Middle E
 ast Books:geo:38.915848,-77.041884
END:VEVENT
BEGIN:VTIMEZONE
TZID:America/Detroit
X-LIC-LOCATION:America/Detroit
BEGIN:DAYLIGHT
DTSTART:20250309T030000
TZOFFSETFROM:-0500
TZOFFSETTO:-0400
TZNAME:EDT
END:DAYLIGHT
END:VTIMEZONE
END:VCALENDAR