BEGIN:VCALENDAR
VERSION:2.0
PRODID:-//wp-events-plugin.com//7.2.3.1//EN
TZID:America/Detroit
X-WR-TIMEZONE:America/Detroit
BEGIN:VEVENT
UID:35126@arabamerica.com
DTSTART;TZID=America/New_York:20250925T183000
DTEND;TZID=America/New_York:20250925T203000
DTSTAMP:20250916T163217Z
URL:https://www.arabamerica.com/events/sip-and-sizzle-a-moroccan-food-and-
 mixology-experience/
SUMMARY:Sip and Sizzle: A Moroccan Food and Mixology Experience
DESCRIPTION:RALEIGH\, NC\n\n&nbsp\;\n\nSip and Sizzle: A Moroccan Food and 
 Mixology Experience! An interactive cooking and mixology class\, 4-course 
 meal AND 2 cocktails!\n\nMix\, sip\, cook\, and enjoy this Moroccan culina
 ry experience for your next date night or friends night out! This is a new
  collaboration in our mixology studio. This event features a mixology comp
 onent AND an interactive cooking/dining experience provided by Chef Leslie
  Chartier of The Travelling Cafe.\n\nClass includes 2 interactive cocktail
 s (featuring fall flavors) AND a 4-course meal featuring a hands-on cookin
 g component with Chef Leslie. Impress your friends with your new mixology 
 and culinary skills!\n\nThe Travelling Cafe's passion is to share the expe
 rience of global cuisine!  This Moroccan Taste and Make Experience will c
 ombine demonstration (the starter) and hands-on (the salad\, main and dess
 ert) for a truly memorable experience!\n\nStarter:\n\nZaalouk (Eggplant Di
 p) with\n\nMsemen (Moroccan Flatbread)\n\nSalad:\n\nMoroccan Tomato Salad\
 n\nMain:\n\nVegetable Couscous with\n\nHarissa Chicken Thighs\n\nDessert:\
 n\nCinnamon Oranges\n\nClasses fill up fast so get your tickets now! Guest
 s are provided with all the necessary tools\, alcohol and ingredients to c
 raft their drinks and meal. Just show up\, mix up\, eat up and sip up!\n\n
 Tickets are non-refundable. One ticket PER guest.\n\nGet Tickets Here\n\n&
 nbsp\;
ATTACH;FMTTYPE=image/jpeg:https://www.arabamerica.com/wp-content/uploads/2
 025/09/Screenshot-2025-09-16-at-12.26.23-PM.png
LOCATION:510 W Martin St\, 510 W Martin St\, Raleigh\, NC\, 27601\, United 
 States
GEO:35.776987;-78.647689
X-APPLE-STRUCTURED-LOCATION;VALUE=URI;X-ADDRESS=510 W Martin St\, Raleigh\,
  NC\, 27601\, United States;X-APPLE-RADIUS=100;X-TITLE=510 W Martin St:geo
 :35.776987,-78.647689
END:VEVENT
BEGIN:VTIMEZONE
TZID:America/New_York
X-LIC-LOCATION:America/New_York
BEGIN:DAYLIGHT
DTSTART:20250309T030000
TZOFFSETFROM:-0500
TZOFFSETTO:-0400
TZNAME:EDT
END:DAYLIGHT
END:VTIMEZONE
END:VCALENDAR