BEGIN:VCALENDAR
VERSION:2.0
PRODID:-//wp-events-plugin.com//7.2.3.1//EN
TZID:America/Detroit
X-WR-TIMEZONE:America/Detroit
BEGIN:VEVENT
UID:35371@arabamerica.com
DTSTART;TZID=America/Detroit:20251109T113000
DTEND;TZID=America/Detroit:20251109T150000
DTSTAMP:20251105T010715Z
URL:https://www.arabamerica.com/events/sips-and-sounds-coffee-party-michig
 an/
SUMMARY:Sips and Sounds Coffee Party (Michigan)
DESCRIPTION:STERLING HEIGHTS\, MI\n\n\n\nJoin us for a one-of-a-kind Coffee
  Party - afternoon of great music\, good vibes\, and amazing coffee celebr
 ating Arab culture and community.\n\n\n\n\n&#x2615\; Coffee Party: Daytime
  Vibes\, Arab Style &#x1f3b6\;\n\nJoin us for a one-of-a-kind Coffee Party
  at Hashem’s 1959 of Sterling Heights! Enjoy an afternoon filled with gr
 eat music\, good vibes\, and amazing coffee—a celebration of Arab cultur
 e\, community\, and connection.\n\nExpect a live DJ\, plenty of dancing\, 
 and a chill daytime atmosphere where you can sip\, socialize\, and celebra
 te.\n\n&#x1f4cd\; Hashem’s 1959 — 37230 Dequindre Rd\, Sterling Height
 s\, MI 48310\n&#x1f550\; Sunday\, November 9 | 11:30 AM – 3:00 PM\n\nCom
 e ready to party Arab style—in the daylight\, with a cup of coffee in ha
 nd. &#x1f31e\;&#x2615\;&#x1f483\;\n\n\n
ATTACH;FMTTYPE=image/jpeg:https://www.arabamerica.com/wp-content/uploads/2
 025/11/https-cdn.evbuc_.com-images-1158554133-2855825186611-1-original.202
 51021-140639.jpeg
LOCATION:Hashem’s 1959\, 37230 Dequindre Rd\, Sterling Heights\, MI\, 483
 10\, United States
GEO:42.565546;-83.088017
X-APPLE-STRUCTURED-LOCATION;VALUE=URI;X-ADDRESS=37230 Dequindre Rd\, Sterli
 ng Heights\, MI\, 48310\, United States;X-APPLE-RADIUS=100;X-TITLE=Hashem
 ’s 1959:geo:42.565546,-83.088017
END:VEVENT
BEGIN:VTIMEZONE
TZID:America/Detroit
X-LIC-LOCATION:America/Detroit
BEGIN:STANDARD
DTSTART:20251102T010000
TZOFFSETFROM:-0400
TZOFFSETTO:-0500
TZNAME:EST
END:STANDARD
END:VTIMEZONE
END:VCALENDAR