BEGIN:VCALENDAR
VERSION:2.0
PRODID:-//wp-events-plugin.com//7.2.3.1//EN
TZID:America/Detroit
X-WR-TIMEZONE:America/Detroit
BEGIN:VEVENT
UID:32422@arabamerica.com
DTSTART;TZID=America/Detroit:20240316T170000
DTEND;TZID=America/Detroit:20240316T210000
DTSTAMP:20240311T001000Z
URL:https://www.arabamerica.com/events/sis-annual-ramadan-iftar-2024-2/
SUMMARY:SIS Annual Ramadan Iftar 2024
DESCRIPTION:[caption id="attachment_246099" align="alignnone" width="300"] 
 Annual Ramadan Iftar Promotional Poster[/caption]\n\n&nbsp\;\n\nBOSTON\, M
 A\n\nFaith &amp\; Friends:\n\nAssalamu Alaykum everyone! We are so excited
  to announce this year's Annual SIS Ramadan Iftar! This event is only open
  to college students and older and will be taking place on Saturday March 
 16th from 6pm to 9pm at the Linda K. Paresky Center\, located on the 3rd f
 loor of the Simmons University Main College Building. Doors will open at 5
 pm but the program will begin promptly at 6pm so that we may break our fas
 ts on time insha’Allah!\n\nWe invite you during this blessed month for a
  Turkish inspired evening with an amazing photobooth area. Join us for a n
 ight of friends and faith where our guest speaker Ustadha Zaynab Ansari wi
 ll speak about the Islamic importance of keeping good company. The evening
  will be followed by a night of breaking fast with amazing food from Man o
  Salwa\, Peshawri Kebab\, Ashur\, and Garlic and Lemons\, as well as amazi
 ng desserts and a chai cart:)\n\nLike last year\, after iftar we will be h
 eading over to ISBCC for Isha and Taraweeh prayer\, followed by an Inter-M
 SA Qiyam night and an IHOP suhoor outing. Please make sure to RSVP by addi
 ng the Qiyaam ticket and IHOP ticket to your cart if you intend to come! Y
 our total should be $10 if you are coming to the iftar\, we will be checki
 ng tickets. Note that if you do not come to the iftar you are still welcom
 e to Qiyam and IHOP.\n\nThe dress code is formal attire: deep reds\, burnt
  oranges\, browns\, olive green\n\nTickets sell out fast\, so buy yours AS
 AP!
LOCATION:Linda K. Paresky Center - Simmons University\, 300 Fenway\, Boston
  \, MA\, 02115 \, United States
GEO:42.33921;-71.100195
X-APPLE-STRUCTURED-LOCATION;VALUE=URI;X-ADDRESS=300 Fenway\, Boston \, MA\,
  02115 \, United States;X-APPLE-RADIUS=100;X-TITLE=Linda K. Paresky Center
  - Simmons University:geo:42.33921,-71.100195
END:VEVENT
BEGIN:VTIMEZONE
TZID:America/Detroit
X-LIC-LOCATION:America/Detroit
BEGIN:DAYLIGHT
DTSTART:20240310T030000
TZOFFSETFROM:-0500
TZOFFSETTO:-0400
TZNAME:EDT
END:DAYLIGHT
END:VTIMEZONE
END:VCALENDAR