BEGIN:VCALENDAR
VERSION:2.0
PRODID:-//wp-events-plugin.com//7.2.3.1//EN
TZID:America/Detroit
X-WR-TIMEZONE:America/Detroit
BEGIN:VEVENT
UID:35285@arabamerica.com
DTSTART;TZID=America/New_York:20251030T180000
DTEND;TZID=America/New_York:20251030T230000
DTSTAMP:20251021T214643Z
URL:https://www.arabamerica.com/events/skate-for-gaza-fundraiser/
SUMMARY:Skate For Gaza Fundraiser
DESCRIPTION:BOSTON\, MA\n\nCome join us as we skate and support local busin
 esses while raising money for families in Gaza. Whether you're a professio
 nal skater or first timer\, open to all levels!! Join us early evening to 
 late night as we raise funds and awareness for families in Gaza Palestine.
  Costumes are welcome\, if you need inspiration think 70's theme. Costume 
 Contest!\n\nChecks\, cards\, cash\, Zelle\, &amp\; cashapp all accepted fo
 r fundraising and donations.\n\nAll fundraising money will be split equall
 y amongst each family. The goal is to be able to rasie a minimum of $1500 
 for the 12 families in Gaza.\n\nHere are the families and their fundraisin
 g pages:\n\nMotasem\n\nAhmad\n\nMoamen\n\nAbdul\n\nHazem\n\nJoud\n\nHaythe
 m\n\nBahaa\n\nAbdulRahman\n\nTareq\n\nAbdulaziz\n\nHazem A\n\nAlthough eve
 ry family in Gaza needs help\, these are people that Omama personally has 
 built relationships with over the past year.\n\nRaffles will be sold $5 a 
 piece\, you can get 6 raffle tickets for $25. There also be vendors there 
 to support local business.\n\nSilent auction as well too.\n\nSpecial guest
 : Songs of Liberation is a protest folk project fronted by Falastini-Ameri
 can soul singer Juliet Salameh with fiddler and songwriter flightorvisibil
 ity\, guitarist Stephen LoVerme and percussionist Doikayt.\n\nSongs of Lib
 eration is a Boston-based protest folk band\, fronted by Palestinian Ameri
 can Juliet Salameh and dedicated to liberation in Falastine and liberation
  for ALL. They know another world is possible and will dream it into exist
 ence through music\, including original and vintage protest songs. Their s
 pirally violin textures and tender vocal harmonies are filled with love fo
 r the people\, the planet\, and the movements that serve life. Their music
  is healing\, uplifting\, tender to community\, while fearlessly resistant
  to empire\, capitalism\, and bigotry of any kind.\n\nFood is sold by the 
 venue and doesn't go towards fundraising. If you would like to be a vendor
  or a sponsor\, please reach out to Omama at Oma.yas3421@gmail.com\n\nGET 
 TICKETS HERE
ATTACH;FMTTYPE=image/jpeg:https://www.arabamerica.com/wp-content/uploads/2
 025/10/Screenshot-2025-10-21-at-5.42.16-PM.png
LOCATION:Chez Vous Roller Skating Rink\, 11 Rhoades Street\,  Boston\, MA\,
  02124\, United States
GEO:42.285383;-71.092194
X-APPLE-STRUCTURED-LOCATION;VALUE=URI;X-ADDRESS=11 Rhoades Street\,  Boston
 \, MA\, 02124\, United States;X-APPLE-RADIUS=100;X-TITLE=Chez Vous Roller 
 Skating Rink:geo:42.285383,-71.092194
END:VEVENT
BEGIN:VTIMEZONE
TZID:America/New_York
X-LIC-LOCATION:America/New_York
BEGIN:DAYLIGHT
DTSTART:20250309T030000
TZOFFSETFROM:-0500
TZOFFSETTO:-0400
TZNAME:EDT
END:DAYLIGHT
END:VTIMEZONE
END:VCALENDAR