BEGIN:VCALENDAR
VERSION:2.0
PRODID:-//wp-events-plugin.com//7.2.3.1//EN
TZID:America/Detroit
X-WR-TIMEZONE:America/Detroit
BEGIN:VEVENT
UID:33347@arabamerica.com
DTSTART;TZID=America/Detroit:20241031T173000
DTEND;TZID=America/Detroit:20241031T190000
DTSTAMP:20240814T045147Z
URL:https://www.arabamerica.com/events/smugglers-and-states-negotiating-th
 e-maghreb-at-its-margins/
SUMMARY:Smugglers and States – Negotiating the Maghreb at its Margins
DESCRIPTION:The WCFIA/CMES Middle East Seminar presents\n\nDr. Max Gallien\
 nResearch Fellow\, Institute of Development Studies\, Brighton\, UK\n\nDis
 cussant: Melani Cammett\, Clarence Dillon Professor of International Affa
 irs\, Department of Government\; Director\, Weatherhead Center for Intern
 ational Affairs\, Harvard University\n\nPlease note: this talk will run fr
 om 5:30-7:00 pm
LOCATION:CGIS Knafel 262\, 1737 Cambridge st.\, Cambridge \, MA \, United S
 tates
GEO:42.375638;-71.1132356
X-APPLE-STRUCTURED-LOCATION;VALUE=URI;X-ADDRESS=1737 Cambridge st.\, Cambri
 dge \, MA \, United States;X-APPLE-RADIUS=100;X-TITLE=CGIS Knafel 262:geo:
 42.375638,-71.1132356
END:VEVENT
BEGIN:VTIMEZONE
TZID:America/Detroit
X-LIC-LOCATION:America/Detroit
BEGIN:DAYLIGHT
DTSTART:20240310T030000
TZOFFSETFROM:-0500
TZOFFSETTO:-0400
TZNAME:EDT
END:DAYLIGHT
END:VTIMEZONE
END:VCALENDAR