BEGIN:VCALENDAR
VERSION:2.0
PRODID:-//wp-events-plugin.com//7.2.3.1//EN
TZID:America/Detroit
X-WR-TIMEZONE:America/Detroit
BEGIN:VEVENT
UID:32385@arabamerica.com
DTSTART;TZID=America/Detroit:20240307T103000
DTEND;TZID=America/Detroit:20240307T133000
DTSTAMP:20240304T203101Z
URL:https://www.arabamerica.com/events/social-media-branding-palestine-lun
 ch-learn/
SUMMARY:Social Media Branding-Palestine Lunch & Learn
DESCRIPTION:TX.\n\n\nAre you trying to grow your business online? Join us t
 o learn the 5 step formula to build a magnetic brand and grow a profitable
  business.\n\n\n\n\n\n\n\n\n\n\n\n\n\n\n\n\n\n\n\n\nAre you an entrepreneu
 r trying to build your brand and grow your business online\, but feeling s
 tuck and overwhelmed on where to start? Online Marketing Strategist\, Mars
 ha Lynn Hudson\, will introduce you to The 5-Step Plan-saying "Good-Bye" t
 o being stuck\, confused\, and overwhelmed!\n\nIn this training\, you’ll
  discover the 5-Step Marketing Success Plan\n\nHow to create a unique and 
 memorable brand and transformation statement\n\nHow to develop your brand 
 identity and message to attract your ideal client\n\nHow to create content
  that speaks the language using AI strategies\n\nHow to set up and leverag
 e 2 social media platforms to increase your impact\n\nHow to create a clie
 nt attraction funnel that turns leads into buyers\n\nYou’ll walk away wi
 th a crystal-clear brand strategy on how to build your brand and grow your
  business online for 2024. If you want to master the essential skills for 
 standing out online\, attracting your ideal clients\, and generating sales
  in today's noisy digital world\, this training is for you.\n\nAbout Marsh
 a…\n\nMarsha Lynn Hudson is an online marketing strategist and leadershi
 p trainer. She has been teaching and training for the UH-SBDC since 2015. 
 Marsha Lynn Hudson is a former Professor of Literature who has taught at W
 harton County Jr. College for 22 years. Marsha also taught at the Universi
 ty of Phoenix\, and she was an adjunct instructor at the University of Hou
 ston-Downtown and Letourneau University. Marsha has a B.S. degree in Profe
 ssional Writing\, an M.S. degree in Literature and an EdS degree in Teache
 r Leadership from Walden University.\n\nMarsha is a serial entrepreneur th
 rough and through.\n\nShe started her first business in the 11th grade off
 ering tutoring services in writing to high school students. Her entreprene
 urial spirit and passion continue as a marketing strategist and leadership
  trainer. Marsha and her husband also own a professional photography and v
 ideography company.\n\nAs a trainer\, speaker\, and coach\, Marsha enjoys 
 teaching entrepreneurs and business owners how to build their brands and g
 row their businesses online. Marsha is the author of “Crushing Barriers:
  Succeeding in Life and Business” and “Unleash Your Inner Leader: Exce
 lling in Business and Career among a host of other e-books. Marsha is an o
 nline creator and offers mini-courses\, digital products\, and memberships
 .\n\nIn her leisure time\, Marsha enjoys quiet evenings at home and quick 
 getaways with her husband\, Malcolm. She can be found most days at a local
  coffee house with a pen and notebook in one hand and a coffee in the othe
 r. Her motto… “The Secret Sauce to Your Success is YOU!\n\n\n\n\n\n\n\
 n\n\n\n\n\n\n
LOCATION:Palestine city hall\, 504 Queen St.\, Palestine\, TX\, United Stat
 es
GEO:31.757408;-95.634315
X-APPLE-STRUCTURED-LOCATION;VALUE=URI;X-ADDRESS=504 Queen St.\, Palestine\,
  TX\, United States;X-APPLE-RADIUS=100;X-TITLE=Palestine city hall:geo:31.
 757408,-95.634315
END:VEVENT
BEGIN:VTIMEZONE
TZID:America/Detroit
X-LIC-LOCATION:America/Detroit
BEGIN:STANDARD
DTSTART:20231105T010000
TZOFFSETFROM:-0400
TZOFFSETTO:-0500
TZNAME:EST
END:STANDARD
END:VTIMEZONE
END:VCALENDAR