BEGIN:VCALENDAR
VERSION:2.0
PRODID:-//wp-events-plugin.com//7.2.3.1//EN
TZID:America/Detroit
X-WR-TIMEZONE:America/Detroit
BEGIN:VEVENT
UID:30629@arabamerica.com
DTSTART;TZID=America/Detroit:20230401T180000
DTEND;TZID=America/Detroit:20230401T220000
DTSTAMP:20230307T041716Z
URL:https://www.arabamerica.com/events/soflo-irusa-grand-iftar-for-syria-t
 urkiye-earthquake-emergency/
SUMMARY:Soflo IRUSA Grand Iftar for Syria/Turkiye Earthquake Emergency
DESCRIPTION:\n\n\n\n&nbsp\;\n\nThe Deadliest Earthquake in Two Decades\n\nO
 n February 6\, two powerful earthquakes erupted across Türkiye and Syria.
  One of the deadliest earthquakes in over 20 years\, the initial 7.8 magni
 tude earthquake was centered near Gaziantep\, a city in south central Tür
 kiye home to millions of Syrian refugees. The second 7.5 magnitude earthqu
 ake was felt nearly nine hours later\, and almost 2\,000 aftershocks have 
 been reported. As of now\, over 40\,000 people have died\, nearly 80\,000 
 more have been injured\, and 6\,000 buildings have been destroyed – and 
 numbers are only expected to rise. About 80\,000 rescue personnel have bee
 n deployed\, working in near-freezing temperatures searching for survivors
  among the rubble.\n\n&nbsp\;\n\nIslamic Relief is working with local part
 ners across Türkiye and Syria to distribute emergency relief. In Türkiye
 \, families are receiving cash assistance to help pay for vital aid includ
 ing food\, water\, and medicine. In Syria\, families are being provided wi
 th their most immediate needs. And in coming months\, we plan to focus on 
 long-term development aid. Join us and help support your brothers and sist
 ers across Türkiye and Syria in their time of need.\n\n&nbsp\;\n\nIRUSA
 ’s Grand Iftar is back for 2023\, and in a big way!\n\nYour favorite Ram
 adan IRUSA iftar is back\, and it’s bigger than ever.\n\nJoin us\, Sheik
 h Suliman Hani\, Qari Mohamed Alzahed\, and Sheikh Shafayat Mohamed\, to r
 eflect on the greatness of this beautiful month\, be moved by the recitati
 on of the Quran\, break our fasts and pray together\, and celebrate the re
 markable impact your charity makes in the lives of so many of our sisters 
 and brothers around the world.\n\nYou don’t want to miss this: Purchase 
 your tickets before they sell out!\n\n\n
ATTACH;FMTTYPE=image/jpeg:https://www.arabamerica.com/wp-content/uploads/2
 023/03/iftar-1.jpeg
CATEGORIES:Syria,Turkey
LOCATION:Signature Grand\, 6900 Florida 84\, Davie\, FL\, 33317\, United St
 ates
GEO:26.0940249;-80.23703940000001
X-APPLE-STRUCTURED-LOCATION;VALUE=URI;X-ADDRESS=6900 Florida 84\, Davie\, F
 L\, 33317\, United States;X-APPLE-RADIUS=100;X-TITLE=Signature Grand:geo:2
 6.0940249,-80.23703940000001
END:VEVENT
BEGIN:VTIMEZONE
TZID:America/Detroit
X-LIC-LOCATION:America/Detroit
BEGIN:DAYLIGHT
DTSTART:20230312T030000
TZOFFSETFROM:-0500
TZOFFSETTO:-0400
TZNAME:EDT
END:DAYLIGHT
END:VTIMEZONE
END:VCALENDAR