BEGIN:VCALENDAR
VERSION:2.0
PRODID:-//wp-events-plugin.com//7.2.3.1//EN
TZID:America/Detroit
X-WR-TIMEZONE:America/Detroit
BEGIN:VEVENT
UID:34695@arabamerica.com
DTSTART;TZID=America/Detroit:20250710T180000
DTEND;TZID=America/Detroit:20250710T210000
DTSTAMP:20250702T211754Z
URL:https://www.arabamerica.com/events/sofra-episode-1-from-hebron-to-amma
 n/
SUMMARY:SOFRA - Episode 1: From Hebron to Amman
DESCRIPTION:SARNIA\, ON\n\nJoin local poet &amp\; passionate cook\, Najah S
 huqair\, for a warm\, inspiring\, and delicious culinary experience!\
 n\nEmbark on an adventure through Middle Eastern cuisine as we prepare 
 kousa mahshy with a tangy cucumber yogurt sauce. Enjoy a communal sit-do
 wn dinner\, traditional mint tea\, and life reflections that will take 
 you right back to grandma’s kitchen.\n\nNajah\, whose roots stretch fro
 m Hebron\, Palestine\, to Amman\, Jordan\, moved to Canada in 1987 - bring
 ing with her a love of Middle Eastern traditions and flavours. She is the 
 author of “Quick and Easy Cookbook: A Recipe and a Poem - Middle Eastern
  Cuisine.”\n\nSofra is a monthly outdoor cooking class hosted by The B
 ackyard Farmer and a featured guest.\n\nSofra (سفرة)\, meaning “t
 able spread” in Arabic\, is a space where cross-cultural cuisine meets s
 easonal\, locally-sourced produce. Guided by our elders\, we use what’s 
 in season\, learn about the produce we are using\, and give “ugly produc
 e” a chance at the limelight with traditional recipes from around the wo
 rld.\n\nOur aim is to foster a love of seasonal cooking\, cultural explora
 tion\, and community. A communal dinner preparation and mealtime - it’s 
 just like grandma’s kitchen\, only if you had a grandma from every corne
 r of the world.\n\nYalla bina ‘ala sofra! (Let’s go to the table!)
ATTACH;FMTTYPE=image/jpeg:https://www.arabamerica.com/wp-content/uploads/2
 025/07/Screen-Shot-2025-07-02-at-5.14.46-PM.png
LOCATION:Anatara Beach & Park\, Lake Chipican Drive\, Ontario \, Canada \, 
 N7V 1K8\, United States
GEO:43.005052;-82.401284
X-APPLE-STRUCTURED-LOCATION;VALUE=URI;X-ADDRESS=Lake Chipican Drive\, Ontar
 io \, Canada \, N7V 1K8\, United States;X-APPLE-RADIUS=100;X-TITLE=Anatara
  Beach & Park:geo:43.005052,-82.401284
END:VEVENT
BEGIN:VTIMEZONE
TZID:America/Detroit
X-LIC-LOCATION:America/Detroit
BEGIN:DAYLIGHT
DTSTART:20250309T030000
TZOFFSETFROM:-0500
TZOFFSETTO:-0400
TZNAME:EDT
END:DAYLIGHT
END:VTIMEZONE
END:VCALENDAR