BEGIN:VCALENDAR
VERSION:2.0
PRODID:-//wp-events-plugin.com//7.2.3.1//EN
TZID:America/Detroit
X-WR-TIMEZONE:America/Detroit
BEGIN:VEVENT
UID:35068@arabamerica.com
DTSTART;TZID=America/Detroit:20250907T160000
DTEND;TZID=America/Detroit:20250907T210000
DTSTAMP:20250903T042234Z
URL:https://www.arabamerica.com/events/solidarity-everywhere-freedom-strug
 gles-from-southeast-asia-to-palestine/
SUMMARY:Solidarity Everywhere: Freedom Struggles from Southeast Asia to Pal
 estine
DESCRIPTION:Join us for an evening of culture\, learning\, food\, film\, an
 d music to deepen the powerful connections between Southeast Asian and Pal
 estinian liberation movements. Fifty years since the formal end of the Ame
 rican war on Southeast Asia\, we are fighting to end the enduring U.S. inv
 estment in Israel’s war on Palestinians. To mark this moment we gather n
 ot just to honor the fierce resistance that ended the imperialist wars of 
 the past — but to ask how our communities\, and allies\, can learn from 
 and strengthen each other through creative\, strategic\, and international
  organizing now.\n\n&nbsp\;\n\nProgram:\n\n&nbsp\;\n\n 	Teach-in with Roua
  Daas (Students for Justice in Palestine\, Palestinian Youth Movement)\, S
 am Sundos (tatreez artist)\, Chhaya Chhoum (Southeast Asian Freedom Networ
 k) and Annie Ly (Asians 4 Palestine)\n 	Screening of “Taking Root\,” d
 ocuseries on Southeast Asians resettling in Philadelphia after the America
 n War in Vietnam\n 	Ceremonial offering\, chef-artist Phoebe Tran (Bé B
 ếp)\n 	Music from Palestine Forever DJs Omar Ahmad and Mohamed\n 	Soap\,
  wine\, and more from SWANA farmers Saboon Maazeh and Wild Arc Farm\n 	Foo
 d vending: The Joy of Feasting and Johnny Hummus — Indonesian x Palestin
 ian culinary collab\n 	Indigenous dance traditions of the Southern Philipp
 ines\, Kinding Sindaw\n\n&nbsp\;\n\nPay-what-you-can entry $15-30\n\n&nbsp
 \;\n\nPlease pay at the level at which you are able — thank you! Funds w
 ill go toward covering our costs and paying participant honoraria\; and ad
 ditional funds will be redistributed to Palestinian mutual aid projects.
LOCATION:Honey’s\, 93 Scott Avenue Brooklyn\, NY 11237\, Brooklyn\, New Y
 ork\, 11237\, United States
GEO:40.710449;-73.923158
X-APPLE-STRUCTURED-LOCATION;VALUE=URI;X-ADDRESS=93 Scott Avenue Brooklyn\, 
 NY 11237\, Brooklyn\, New York\, 11237\, United States;X-APPLE-RADIUS=100;
 X-TITLE=Honey’s:geo:40.710449,-73.923158
END:VEVENT
BEGIN:VTIMEZONE
TZID:America/Detroit
X-LIC-LOCATION:America/Detroit
BEGIN:DAYLIGHT
DTSTART:20250309T030000
TZOFFSETFROM:-0500
TZOFFSETTO:-0400
TZNAME:EDT
END:DAYLIGHT
END:VTIMEZONE
END:VCALENDAR