BEGIN:VCALENDAR
VERSION:2.0
PRODID:-//wp-events-plugin.com//7.2.3.1//EN
TZID:America/Detroit
X-WR-TIMEZONE:America/Detroit
BEGIN:VEVENT
UID:35157@arabamerica.com
DTSTART;TZID=America/New_York:20251018T190000
DTEND;TZID=America/New_York:20251018T210000
DTSTAMP:20250924T190607Z
URL:https://www.arabamerica.com/events/songs-of-palestine-sawt-al-sumud/
SUMMARY:Songs of Palestine- Sawt Al Sumud
DESCRIPTION:GARNER\, NC\n\nCome join us for an inspiring evening of revolu
 tionary Palestinian music at the D&amp\;R Event Venue. Experience the pow
 erful rhythms and soaring voices of Song of Palestine — Sawt Al Sumud\,
  featuring the renowned Ramzi Aburedwan &amp\; The Dal’Ouna Ensemble\, 
 with a performance that channels resilience\, resistance\, and the unbreak
 able spirit of our people.\n\nThrough stirring melodies and bold lyrics\, 
 this concert carries the heartbeat of liberation and steadfastness — a r
 eminder to continue standing with and remembering our people in Gaza as th
 ey endure unimaginable hardship.\n\n&#x2728\; All proceeds from this even
 t will go toward supporting the people of Gaza. &#x2728\;\nLet the music 
 move you\, inspire you\, and connect you to the ongoing story of Palestine
 ’s struggle and hope.\n\nDon’t miss this unforgettable night where cul
 ture\, revolution\, and solidarity come alive in song!\n\nhttps://www.ramz
 iaburedwan.com/dalouna\n\nInstagram: @palyouthnc
ATTACH;FMTTYPE=image/jpeg:https://www.arabamerica.com/wp-content/uploads/2
 025/09/Screen-Shot-2025-09-24-at-3.05.06-PM.png
LOCATION:D&R wedding and event venue\, 531 Plaza Circle \, Garner\, North C
 arolina \, 27529\, United States
GEO:35.704567;-78.611367
X-APPLE-STRUCTURED-LOCATION;VALUE=URI;X-ADDRESS=531 Plaza Circle \, Garner\
 , North Carolina \, 27529\, United States;X-APPLE-RADIUS=100;X-TITLE=D&R w
 edding and event venue:geo:35.704567,-78.611367
END:VEVENT
BEGIN:VTIMEZONE
TZID:America/New_York
X-LIC-LOCATION:America/New_York
BEGIN:DAYLIGHT
DTSTART:20250309T030000
TZOFFSETFROM:-0500
TZOFFSETTO:-0400
TZNAME:EDT
END:DAYLIGHT
END:VTIMEZONE
END:VCALENDAR