BEGIN:VCALENDAR
VERSION:2.0
PRODID:-//wp-events-plugin.com//7.2.3.1//EN
TZID:America/Detroit
X-WR-TIMEZONE:America/Detroit
BEGIN:VEVENT
UID:33914@arabamerica.com
DTSTART;TZID=America/Detroit:20250125T120000
DTEND;TZID=America/Detroit:20250125T170000
DTSTAMP:20250108T052044Z
URL:https://www.arabamerica.com/events/souk-%d8%b3%d9%8a%d8%a7%d8%aa%d9%84
 -pop-up-market/
SUMMARY:SOUK سياتل Pop-Up Market
DESCRIPTION:SEATTLE\, WA\n\n&nbsp\;\n\nMarhaba!\n\nWe are so excited to wel
 come you to our first edition of SOUK Seattle\; a recurring pop-up market 
 that embraces our beautiful Arab cultures through art\, community\, and ch
 arity!\n\nThe Souk is the beating heart of ancient Arab cities\; a space f
 or cultural life and social connections. SOUK Seattle was born out of our 
 desire to capture this spirit and create a warm\, community-centered space
  for us to gather regularly.\n\n&#x23f0\; When: Saturday January 25\, 12-5
 pm\n&#x1f4cd\;Where: 210 Seattle in Pioneer Square\n\n&#x1f9ff\; 15+ artis
 ts and makers showcasing art\, handicraft\, clothing\, jewelry\, and more!
 \n&#x1f9ff\; DJ @who.dinii will be bringing the good vibes &#x1f3b5\;\n&
 #x1f9ff\; Henna by the talented @ineedasandwich\n&#x1f9ff\; Charity raffl
 e to raise funds for Palestine\, Lebanon\, and Sudan\n&#x1f9ff\; Event is 
 free\, family-friendly\, and the venue is accessible. Masks are encouraged
  and will be provided!\n\nSOUK ‘lel kull’ - Whether you’re part of t
 he Arab community or someone who supports or wants to learn more about our
  heritages\, this will be a space for everyone to come together to embrace
  the spirit of the ancient souk.\n\nFollow us on IG: @souk.seattle\n\nSee 
 you soon &#x1f90e\; لنجتمع قريبا
ATTACH;FMTTYPE=image/jpeg:https://www.arabamerica.com/wp-content/uploads/2
 025/01/sss.png
LOCATION:210 SEATTLE\, 210 SEATTLE\, Seattle\, WA\, United States
GEO:47.601006;-122.331053
X-APPLE-STRUCTURED-LOCATION;VALUE=URI;X-ADDRESS=210 SEATTLE\, Seattle\, WA\
 , United States;X-APPLE-RADIUS=100;X-TITLE=210 SEATTLE:geo:47.601006,-122.
 331053
END:VEVENT
BEGIN:VTIMEZONE
TZID:America/Detroit
X-LIC-LOCATION:America/Detroit
BEGIN:STANDARD
DTSTART:20241103T010000
TZOFFSETFROM:-0400
TZOFFSETTO:-0500
TZNAME:EST
END:STANDARD
END:VTIMEZONE
END:VCALENDAR