BEGIN:VCALENDAR
VERSION:2.0
PRODID:-//wp-events-plugin.com//7.2.3.1//EN
TZID:America/Detroit
X-WR-TIMEZONE:America/Detroit
BEGIN:VEVENT
UID:36230@arabamerica.com
DTSTART;TZID=America/Detroit:20260430T170000
DTEND;TZID=America/Detroit:20260501T200000
DTSTAMP:20260421T221111Z
URL:https://www.arabamerica.com/events/soul-of-algeria/
SUMMARY:SOUL OF ALGERIA
DESCRIPTION:Conclusion of National Arab American Heritage Month &amp\;\nBeg
 inning of Algerian Spring\nTWO EVENTS - ONE TICKET!\nCelebrate Diversity &
 amp\; Community\n\nAPRIL 30\, 2026 • 5-8 PM\nEllen Coolidge Burke Librar
 y\n4701 Seminary Rd STE 104.\nAlexandria\, VA 22304\nPOETRY\nBOOK PRESENTA
 TION\nART DISPLAY\nALGERIAN SWEETS TASTING\nCHAABI MUSIC\nMAY 1\, 2026 •
  4 PM &amp\; BEYOND\n8101A US-29\, FALLS CHURCH\, VA\nLIVE CHAABI MUSIC &a
 mp\; DJ\nTRADITIONAL ALGERIAN KHEIMA\nFOOD VENDORS &amp\; BRAADJ SWEETS\nM
 ERGUEZ BBQ &amp\; COUSCOUS\nARTISAN MARKETPLACE\nMORE SURPRISES!\n&nbsp\;\
 nGET YOUR TICKETS NOW!\nEXPERIENCE THE SPIRIT OF ALGERIA
ATTACH;FMTTYPE=image/jpeg:https://www.arabamerica.com/wp-content/uploads/2
 026/04/DA5F6573-BD99-4DA3-AD7E-5C70A56A589F.jpeg
CATEGORIES:Community,culture
END:VEVENT
BEGIN:VTIMEZONE
TZID:America/Detroit
X-LIC-LOCATION:America/Detroit
BEGIN:DAYLIGHT
DTSTART:20260308T030000
TZOFFSETFROM:-0500
TZOFFSETTO:-0400
TZNAME:EDT
END:DAYLIGHT
END:VTIMEZONE
END:VCALENDAR