BEGIN:VCALENDAR
VERSION:2.0
PRODID:-//wp-events-plugin.com//7.2.3.1//EN
TZID:America/Detroit
X-WR-TIMEZONE:America/Detroit
BEGIN:VEVENT
UID:34605@arabamerica.com
DTSTART;TZID=America/Detroit:20250712T100000
DTEND;TZID=America/Detroit:20250712T130000
DTSTAMP:20250617T074545Z
URL:https://www.arabamerica.com/events/spaces-of-dearborn-architecture-tou
 r-2/
SUMMARY:Spaces of Dearborn: Architecture Tour
DESCRIPTION:DEARBORN\, MI\n10 a.m. – 1 p.m. ET Saturday\, July 12\, 2025\
 nSpaces of Dearborn: Architecture Tour\nPurchase Tickets\nMuseum Members: 
 $10\nStudent/Senior: $12\nGeneral Public: $15\n\nFrom decked-out garages t
 o infamous restaurant fountain wars – the vernacular architecture of Dea
 rborn tells us a special story of Arab Americans have made this city a hom
 e. Join the Arab American National Museum for a tour of these specials spa
 ces. Guests will meet community members eager to share stories of creating
  space and making home.\n\nPlease note that this tour will be taking place
  across Dearborn\, and we will be transporting guests in a company van. Th
 e tour requires being in a van.
ATTACH;FMTTYPE=image/jpeg:https://www.arabamerica.com/wp-content/uploads/2
 025/06/Screenshot-2025-06-17-at-10.36.48 AM.png
LOCATION:Arab American Museum\, 13624 Michigan Avenue\, Dearborn\, MI\, Uni
 ted States
GEO:42.3222224;-83.1766346
X-APPLE-STRUCTURED-LOCATION;VALUE=URI;X-ADDRESS=13624 Michigan Avenue\, Dea
 rborn\, MI\, United States;X-APPLE-RADIUS=100;X-TITLE=Arab American Museum
 :geo:42.3222224,-83.1766346
END:VEVENT
BEGIN:VTIMEZONE
TZID:America/Detroit
X-LIC-LOCATION:America/Detroit
BEGIN:DAYLIGHT
DTSTART:20250309T030000
TZOFFSETFROM:-0500
TZOFFSETTO:-0400
TZNAME:EDT
END:DAYLIGHT
END:VTIMEZONE
END:VCALENDAR