BEGIN:VCALENDAR
VERSION:2.0
PRODID:-//wp-events-plugin.com//7.2.3.1//EN
TZID:America/Detroit
X-WR-TIMEZONE:America/Detroit
BEGIN:VEVENT
UID:35232@arabamerica.com
DTSTART;TZID=America/Detroit:20251016T193000
DTEND;TZID=America/Detroit:20251016T213000
DTSTAMP:20251013T223856Z
URL:https://www.arabamerica.com/events/special-edition-middle-eastern-danc
 e-show-uofr-lifeforce-nafs-%d9%86%d9%8e%d9%81%d8%b3/
SUMMARY:Special Edition Middle Eastern Dance Show @ UofR - Lifeforce: Nafs 
 نَفس
DESCRIPTION:RICHMOND\, VA\n\n\n\nStep into an intimate\, once-in-a-lifetime
  performance where the audience surrounds the action and every beat is fel
 t up close. This immersive show blends the fire of Dabke\, elegance of bel
 ly dance\, and thunder of live drummers with a live orchestral ensemble pe
 rforming to both beloved musical favorites and hidden gems.\n\nAfter the p
 erformance\, savor an authentic Lebanese tasting menu prepared by authenti
 c local Lebanese women sharing recipes passed down through generations.\n\
 nWith only 80 seats available\, this is more than a show — it’s an unf
 orgettable celebration of culture\, community\, and the spirit that unites
  us.
ATTACH;FMTTYPE=image/jpeg:https://www.arabamerica.com/wp-content/uploads/2
 025/10/https-cdn.evbuc_.com-images-1120251393-211368396721-1-original.2025
 0910-171957.jpeg
LOCATION:Carole Weinstein International Center\, 211 Richmond Way \, Richmo
 nd\, VA\, 23226\, United States
GEO:37.579468;-77.537121
X-APPLE-STRUCTURED-LOCATION;VALUE=URI;X-ADDRESS=211 Richmond Way \, Richmon
 d\, VA\, 23226\, United States;X-APPLE-RADIUS=100;X-TITLE=Carole Weinstein
  International Center:geo:37.579468,-77.537121
END:VEVENT
BEGIN:VTIMEZONE
TZID:America/Detroit
X-LIC-LOCATION:America/Detroit
BEGIN:DAYLIGHT
DTSTART:20250309T030000
TZOFFSETFROM:-0500
TZOFFSETTO:-0400
TZNAME:EDT
END:DAYLIGHT
END:VTIMEZONE
END:VCALENDAR