BEGIN:VCALENDAR
VERSION:2.0
PRODID:-//wp-events-plugin.com//7.2.3.1//EN
TZID:America/Detroit
X-WR-TIMEZONE:America/Detroit
BEGIN:VEVENT
UID:34322@arabamerica.com
DTSTART;TZID=America/Detroit:20250504T100000
DTEND;TZID=America/Detroit:20250504T123000
DTSTAMP:20250423T185319Z
URL:https://www.arabamerica.com/events/spirituality-and-the-city-pilgrimag
 e-to-ancient-egypt-met-tour-5/
SUMMARY:Spirituality and The City: Pilgrimage to Ancient Egypt - Met Tour
DESCRIPTION:NEW YORK CITY\, NY\n\nBarbara is juiced from returning from her
  spiritual pilgrimage to Egypt and ready to share with you her personal ex
 perience as well as the ancient metaphysical knowledge she has accumulated
  over the years.\n\nThis is a spiritual pilgrimage and what makes this dif
 ferent from your average trip to the museum (or to any place) is that you 
 will be noticing the effect that the objects in the Egyptian collection ha
 ve on your body and spirit.\n\nThe Met Museum has an extensive Ancient Egy
 ptian collection. Many pieces are thousands of years old. As an ancient be
 ing yourself\, you will notice that certain objects\, symbols\, messages a
 nd even jewelry may “light you up.” You may get a heavy or excited fee
 ling in a certain part of your body – your stomach\, abdomen\, top of yo
 ur head. You will be encouraged to notice any reactions your body is havin
 g while walking through the exhibits. We will stop as a group periodically
  to share and read these energies using our clairvoyance.\n\nYou will disc
 over the spiritual practices &amp\; ancient rituals of ancient Egypt. Stan
 d in front of ancient statues of Sekhmet – the goddess of healing (and d
 estruction) – and get a healing. Learn the meaning of living a good life
  through a room of papyrus containing all the spells from the Book of the 
 Dead. You may even have the chance to see your ancient self in a 6000 year
  old mirror!\n\nWe will be a tight group of 6-10 people so this event has 
 limited availability.\n\n&nbsp\;\n\nLOCATION:\n\nMetropolitan Museum of Ar
 t\n\n1000 Fifth Avenue (at 82nd Street)\n\nNew York\, NY 10028\n\nhttp://w
 ww.metmuseum.org\n\n&nbsp\;\n\nTIME:\n\n9:45 am – We'll meet just outsid
 e the museum entrance at the top of the steps. Please be on time so that w
 e are amongst the first group in - before the crowds. If the weather is no
 t good we will meet inside right next to the Egyptian statue.\n\n&nbsp\;\n
 \nWHAT TO BRING:\n\nA printed version of the HAND-OUT you receive by email
  upon registration.\n\nNotebook and pen for writing.\n\n&nbsp\;\n\nNOTE:\n
 \nThey do not allow large bags or backpacks into the museum\; you will hav
 e to check them at the entrance. No flash use on the camera inside.\n\n&nb
 sp\;\n\nTRIP GUIDE:\n\nBarbara Biziou\n\nI will be sending over further tr
 ip details as we get closer to the date so keep an eye out for that email.
ATTACH;FMTTYPE=image/jpeg:https://www.arabamerica.com/wp-content/uploads/2
 025/04/Screenshot-2025-04-22-at-2.07.06 PM.png
LOCATION:The Metropolitan Museum of Art\, 1000 fifth avenue\, New York\, Ne
 w York\, 10028\, United States
GEO:40.7791655;-73.96292779999999
X-APPLE-STRUCTURED-LOCATION;VALUE=URI;X-ADDRESS=1000 fifth avenue\, New Yor
 k\, New York\, 10028\, United States;X-APPLE-RADIUS=100;X-TITLE=The Metrop
 olitan Museum of Art:geo:40.7791655,-73.96292779999999
END:VEVENT
BEGIN:VTIMEZONE
TZID:America/Detroit
X-LIC-LOCATION:America/Detroit
BEGIN:DAYLIGHT
DTSTART:20250309T030000
TZOFFSETFROM:-0500
TZOFFSETTO:-0400
TZNAME:EDT
END:DAYLIGHT
END:VTIMEZONE
END:VCALENDAR