BEGIN:VCALENDAR
VERSION:2.0
PRODID:-//wp-events-plugin.com//7.2.3.1//EN
TZID:America/Detroit
X-WR-TIMEZONE:America/Detroit
BEGIN:VEVENT
UID:30844@arabamerica.com
DTSTART;TZID=America/Detroit:20230429T100000
DTEND;TZID=America/Detroit:20230429T123000
DTSTAMP:20230409T221821Z
URL:https://www.arabamerica.com/events/spirituality-and-the-city-pilgrimag
 e-to-ancient-egypt-met-tour/
SUMMARY:Spirituality and the City: Pilgrimage to Ancient Egypt - Met Tour
DESCRIPTION:NEW YORK\, NY\n\nJoin global ritual expert Barbara Biziou for a
  special private small group tour of ancient Egypt at the Met Museum in NY
 C.\n\nBarbara is juiced from just returning from her spiritual pilgrimage 
 to Egypt and ready to share with you her personal experience as well as th
 e ancient metaphysical knowledge she has accumulated over the years.\nThis
  is a spiritual pilgrimage and what makes this different from your average
  trip to the museum (or to any place) is that you will be noticing the eff
 ect that the objects in the Egyptian collection have on your body and spir
 it.\nThe Met Museum has an extensive Ancient Egyptian collection. Many pie
 ces are thousands of years old. As an ancient being yourself\, you will no
 tice that certain objects\, symbols\, messages and even jewelry may “lig
 ht you up.” You may get a heavy or excited feeling in a certain part of 
 your body – your stomach\, abdomen\, top of your head. You will be encou
 raged to notice any reactions your body is having while walking through th
 e exhibits. We will stop as a group periodically to share and read these e
 nergies using our clairvoyance.\nYou will discover the spiritual practices
  &amp\; ancient rituals of ancient Egypt. Stand in front of ancient statue
 s of Sekhmet – the goddess of healing (and destruction) – and get a he
 aling. Learn the meaning of living a good life through a room of papyrus c
 ontaining all the spells from the Book of the Dead. You may even have the 
 chance to see your ancient self in a 6000 year old mirror!\nWe will be a t
 ight group of 6-10 people so this event has limited availability.\n\nGENER
 AL INFORMATION:\nLOCATION:\n\nMetropolitan Museum of Art\n\n1000 Fifth Ave
 nue (at 82nd Street)\n\nNew York\, NY 10028\n\nhttp://www.metmuseum.org\n\
 nTIME:\n\n9:45 am – We'll meet just outside the museum entrance at the t
 op of the steps. Please be on time so that we are amongst the first group 
 in - before the crowds. If the weather is not good we will meet inside rig
 ht next to the Egyptian statue.\n\nWHAT TO BRING:\n\nA printed version of 
 the HAND-OUT you receive by email upon registration.\n\nNotebook and pen f
 or writing.\n\nNOTE:\n\nThey do not allow large bags or backpacks into the
  museum\; you will have to check them at the entrance. No flash use on the
  camera inside.\n\nTRIP GUIDE:\n\nBarbara Biziou\n\nI will be sending over
  further trip details as we get closer to the date so keep an eye out for 
 that email.
ATTACH;FMTTYPE=image/jpeg:https://www.arabamerica.com/wp-content/uploads/2
 023/04/IMG_81A7D6953D44-1.jpeg
CATEGORIES:culture,Discussion,Music/Folk/World
LOCATION:The Metropolitan Museum of Art\, New York\, 1000 5th Ave\, Manhatt
 an\, NY\, United States
GEO:40.7791655;-73.96292779999999
X-APPLE-STRUCTURED-LOCATION;VALUE=URI;X-ADDRESS=1000 5th Ave\, Manhattan\, 
 NY\, United States;X-APPLE-RADIUS=100;X-TITLE=The Metropolitan Museum of A
 rt\, New York:geo:40.7791655,-73.96292779999999
END:VEVENT
BEGIN:VTIMEZONE
TZID:America/Detroit
X-LIC-LOCATION:America/Detroit
BEGIN:DAYLIGHT
DTSTART:20230312T030000
TZOFFSETFROM:-0500
TZOFFSETTO:-0400
TZNAME:EDT
END:DAYLIGHT
END:VTIMEZONE
END:VCALENDAR