BEGIN:VCALENDAR
VERSION:2.0
PRODID:-//wp-events-plugin.com//7.2.3.1//EN
TZID:America/Detroit
X-WR-TIMEZONE:America/Detroit
BEGIN:VEVENT
UID:36239@arabamerica.com
DTSTART;TZID=America/Detroit:20260422T120000
DTEND;TZID=America/Detroit:20260422T160000
DTSTAMP:20260422T104629Z
URL:https://www.arabamerica.com/events/sqcc-open-house-featuring-arabic-ca
 lligraphy-by-mariam-lodin/
SUMMARY:SQCC Open House Featuring Arabic Calligraphy by Mariam Lodin
DESCRIPTION:WASHINGTON\, DC\n\n\n\n\n\n\nAbout the Event\n\n\n\n\n\n\n\n\n\
 nThe Sultan Qaboos Cultural Center (SQCC) invites you to mark National Ara
 b American Heritage Month with an exploration of one of the Arab world’s
  most revered artistic traditions: Arabic calligraphy.\nJoin us for a spec
 ial showcase with calligrapher Mariam Lodin\, who will guide attendees thr
 ough the evolution\, methodology\, and enduring beauty of this centuries-o
 ld art form. The session offers a technical look at the scripts that have 
 shaped Arabic heritage\, from their historical roots to the disciplined cr
 aft behind every stroke.\n\nFREE AND OPEN TO THE PUBLIC\n\n\n
ATTACH;FMTTYPE=image/jpeg:https://www.arabamerica.com/wp-content/uploads/2
 026/04/Arabic-Calligraphy-1.jpeg
LOCATION:Sultan Qaboos Cultural Center\, 1100 16th St NW\, Washington DC\, 
 DC\, United States
GEO:38.903947;-77.037061
X-APPLE-STRUCTURED-LOCATION;VALUE=URI;X-ADDRESS=1100 16th St NW\, Washingto
 n DC\, DC\, United States;X-APPLE-RADIUS=100;X-TITLE=Sultan Qaboos Cultura
 l Center:geo:38.903947,-77.037061
END:VEVENT
BEGIN:VTIMEZONE
TZID:America/Detroit
X-LIC-LOCATION:America/Detroit
BEGIN:DAYLIGHT
DTSTART:20260308T030000
TZOFFSETFROM:-0500
TZOFFSETTO:-0400
TZNAME:EDT
END:DAYLIGHT
END:VTIMEZONE
END:VCALENDAR