BEGIN:VCALENDAR
VERSION:2.0
PRODID:-//wp-events-plugin.com//7.2.3.1//EN
TZID:America/Detroit
X-WR-TIMEZONE:America/Detroit
BEGIN:VEVENT
UID:33794@arabamerica.com
DTSTART;TZID=America/Detroit:20241207T110000
DTEND;TZID=America/Detroit:20241207T170000
DTSTAMP:20241113T065512Z
URL:https://www.arabamerica.com/events/ss-peter-and-pauls-christmas-market
 /
SUMMARY:SS Peter and Paul's Christmas Market
DESCRIPTION:POTOMAC\, MD\n\n&nbsp\;
ATTACH;FMTTYPE=image/jpeg:https://www.arabamerica.com/wp-content/uploads/2
 024/11/unnamed-13.png
LOCATION:Ss Peter and Paul Antiochian Christian Church\, 10620 River Road\,
  Potomac\, MD\, United States
GEO:39.024065;-77.219236
X-APPLE-STRUCTURED-LOCATION;VALUE=URI;X-ADDRESS=10620 River Road\, Potomac\
 , MD\, United States;X-APPLE-RADIUS=100;X-TITLE=Ss Peter and Paul Antiochi
 an Christian Church:geo:39.024065,-77.219236
END:VEVENT
BEGIN:VTIMEZONE
TZID:America/Detroit
X-LIC-LOCATION:America/Detroit
BEGIN:STANDARD
DTSTART:20241103T010000
TZOFFSETFROM:-0400
TZOFFSETTO:-0500
TZNAME:EST
END:STANDARD
END:VTIMEZONE
END:VCALENDAR