BEGIN:VCALENDAR
VERSION:2.0
PRODID:-//wp-events-plugin.com//7.2.3.1//EN
TZID:America/Detroit
X-WR-TIMEZONE:America/Detroit
BEGIN:VEVENT
UID:31613@arabamerica.com
DTSTART;TZID=America/Detroit;VALUE=DATE:20230922
DTEND;TZID=America/Detroit;VALUE=DATE:20230925
DTSTAMP:20230823T180012Z
URL:https://www.arabamerica.com/events/st-anne-melkite-cathedral-20th-annu
 al-festival/
SUMMARY:St. Anne Melkite Cathedral - 20th Annual Festival
DESCRIPTION:
ATTACH;FMTTYPE=image/jpeg:https://www.arabamerica.com/wp-content/uploads/2
 023/08/image-28.png
CATEGORIES:#arabic,Arab American,Community,culture,Music/Folk/World
LOCATION:11211 Moorpark St\, 11211 Moorpark St\, North Hollywood\, CA\, Uni
 ted States
GEO:34.150706;-118.375641
X-APPLE-STRUCTURED-LOCATION;VALUE=URI;X-ADDRESS=11211 Moorpark St\, North H
 ollywood\, CA\, United States;X-APPLE-RADIUS=100;X-TITLE=11211 Moorpark St
 :geo:34.150706,-118.375641
END:VEVENT
BEGIN:VTIMEZONE
TZID:America/Detroit
X-LIC-LOCATION:America/Detroit
BEGIN:DAYLIGHT
DTSTART:20230312T030000
TZOFFSETFROM:-0500
TZOFFSETTO:-0400
TZNAME:EDT
END:DAYLIGHT
END:VTIMEZONE
END:VCALENDAR