BEGIN:VCALENDAR
VERSION:2.0
PRODID:-//wp-events-plugin.com//7.2.3.1//EN
TZID:America/Detroit
X-WR-TIMEZONE:America/Detroit
BEGIN:VEVENT
UID:33275@arabamerica.com
DTSTART;TZID=America/Detroit:20240920T180000
DTEND;TZID=America/Detroit:20240922T220000
DTSTAMP:20240729T161946Z
URL:https://www.arabamerica.com/events/st-anne-melkite-cathedral-21st-annu
 al-food-festival/
SUMMARY:St. Anne Melkite Cathedral 21st Annual Food Festival
DESCRIPTION:NORTH HOLLYWOOD\, CALIFORNIA\n\n&nbsp\;
ATTACH;FMTTYPE=image/jpeg:https://www.arabamerica.com/wp-content/uploads/2
 024/07/temp-62.jpg
LOCATION:11211 Moorpark St\, 11211 Moorpark St\, North Hollywood\, CA\, Uni
 ted States
GEO:34.150706;-118.375641
X-APPLE-STRUCTURED-LOCATION;VALUE=URI;X-ADDRESS=11211 Moorpark St\, North H
 ollywood\, CA\, United States;X-APPLE-RADIUS=100;X-TITLE=11211 Moorpark St
 :geo:34.150706,-118.375641
END:VEVENT
BEGIN:VTIMEZONE
TZID:America/Detroit
X-LIC-LOCATION:America/Detroit
BEGIN:DAYLIGHT
DTSTART:20240310T030000
TZOFFSETFROM:-0500
TZOFFSETTO:-0400
TZNAME:EDT
END:DAYLIGHT
END:VTIMEZONE
END:VCALENDAR