BEGIN:VCALENDAR
VERSION:2.0
PRODID:-//wp-events-plugin.com//7.2.3.1//EN
TZID:America/Detroit
X-WR-TIMEZONE:America/Detroit
BEGIN:VEVENT
UID:34972@arabamerica.com
DTSTART;TZID=America/Detroit:20250816T110000
DTEND;TZID=America/Detroit:20250817T230000
DTSTAMP:20250812T034329Z
URL:https://www.arabamerica.com/events/st-mary-mahrajan/
SUMMARY:ST Mary Mahrajan
DESCRIPTION:PAWTUCKET\, RI
ATTACH;FMTTYPE=image/jpeg:https://www.arabamerica.com/wp-content/uploads/2
 025/08/FEAST_DAY_WEEKEND_2025_Flyer-pdf.jpg
LOCATION:St Mary Antiochian Parish Hall\, Saint Marys Way \, Pawtucket\, Un
 ited States
GEO:41.8810771;-71.38324060000002
X-APPLE-STRUCTURED-LOCATION;VALUE=URI;X-ADDRESS=Saint Marys Way \, Pawtucke
 t\, United States;X-APPLE-RADIUS=100;X-TITLE=St Mary Antiochian Parish Hal
 l:geo:41.8810771,-71.38324060000002
END:VEVENT
BEGIN:VTIMEZONE
TZID:America/Detroit
X-LIC-LOCATION:America/Detroit
BEGIN:DAYLIGHT
DTSTART:20250309T030000
TZOFFSETFROM:-0500
TZOFFSETTO:-0400
TZNAME:EDT
END:DAYLIGHT
END:VTIMEZONE
END:VCALENDAR