BEGIN:VCALENDAR
VERSION:2.0
PRODID:-//wp-events-plugin.com//7.2.3.1//EN
TZID:America/Detroit
X-WR-TIMEZONE:America/Detroit
BEGIN:VEVENT
UID:34323@arabamerica.com
DTSTART;TZID=America/Detroit:20250531T110000
DTEND;TZID=America/Detroit:20250531T180000
DTSTAMP:20250423T185757Z
URL:https://www.arabamerica.com/events/st-mina-pope-kyrillos-egyptian-fest
 ival/
SUMMARY:St. Mina & Pope Kyrillos Egyptian Festival
DESCRIPTION:CARLISLE\, PA\n\nWelcome to the St. Mina &amp\; Pope Kyrillos E
 gyptian Festival!\n\nCome join us for a day filled with delicious Egyptian
  food\, lively music\, and vibrant cultural performances. The event will b
 e held at 51 E Main St\, Carslise\, PA so mark your calendars and bring yo
 ur friends and family along for a fun-filled day celebrating our heritage.
 \n\nExperience the rich traditions of Egypt through traditional dances\, a
 rt displays\, and more. Don't miss out on the opportunity to immerse yours
 elf in the beauty of Egyptian culture right in the heart of our community.
 \n\nWhether you're a longtime fan of Egyptian culture or looking to explor
 e something new\, this festival is the perfect way to spend a day. We can'
 t wait to see you there!
ATTACH;FMTTYPE=image/jpeg:https://www.arabamerica.com/wp-content/uploads/2
 025/04/Screenshot-2025-04-23-at-3.05.57 PM.png
LOCATION:St. Mina & Pope Kyrillos Coptic Orthodox Church\, 51 East Main ST\
 , Carlisle\, PA\, 17015\, United States
GEO:40.202247;-77.281899
X-APPLE-STRUCTURED-LOCATION;VALUE=URI;X-ADDRESS=51 East Main ST\, Carlisle\
 , PA\, 17015\, United States;X-APPLE-RADIUS=100;X-TITLE=St. Mina & Pope Ky
 rillos Coptic Orthodox Church:geo:40.202247,-77.281899
END:VEVENT
BEGIN:VTIMEZONE
TZID:America/Detroit
X-LIC-LOCATION:America/Detroit
BEGIN:DAYLIGHT
DTSTART:20250309T030000
TZOFFSETFROM:-0500
TZOFFSETTO:-0400
TZNAME:EDT
END:DAYLIGHT
END:VTIMEZONE
END:VCALENDAR