BEGIN:VCALENDAR
VERSION:2.0
PRODID:-//wp-events-plugin.com//7.2.3.1//EN
TZID:America/Detroit
X-WR-TIMEZONE:America/Detroit
BEGIN:VEVENT
UID:34612@arabamerica.com
DTSTART;TZID=America/Detroit:20250627T190000
DTEND;TZID=America/Detroit:20250627T210000
DTSTAMP:20250617T220701Z
URL:https://www.arabamerica.com/events/stand-up-for-palestine-3/
SUMMARY:Stand Up for Palestine
DESCRIPTION:OAKLAND\, CA\n\nSTAND-UP\nPALESTINE\nJUNE 27\n7PM PDT\n575 CAST
 RO ST\, SF QUEER ARTS FEATURED\nALL PROCEEDS GO TO:\nSEVEN SISTERS\nCOLLEC
 TIVE\nRHODA GRAVADOR\nIVY VASQUEZ\nTANNA SIMONE\nJADE THERIAULT\n$10\nJun 
 27-7:00 PM PDT\nGet tickets\nA LIVE COMEDY SHOW FEATURING:\n$10\nYOUR HOST
 : @hahahadalia
ATTACH;FMTTYPE=image/jpeg:https://www.arabamerica.com/wp-content/uploads/2
 025/06/Screen-Shot-2025-06-17-at-6.04.11-PM.png
LOCATION:CA 94607\, 575 Castro Street\, Oakland\, California \, 94607\, Uni
 ted States
GEO:37.800994;-122.280693
X-APPLE-STRUCTURED-LOCATION;VALUE=URI;X-ADDRESS=575 Castro Street\, Oakland
 \, California \, 94607\, United States;X-APPLE-RADIUS=100;X-TITLE=CA 94607
 :geo:37.800994,-122.280693
END:VEVENT
BEGIN:VTIMEZONE
TZID:America/Detroit
X-LIC-LOCATION:America/Detroit
BEGIN:DAYLIGHT
DTSTART:20250309T030000
TZOFFSETFROM:-0500
TZOFFSETTO:-0400
TZNAME:EDT
END:DAYLIGHT
END:VTIMEZONE
END:VCALENDAR