BEGIN:VCALENDAR
VERSION:2.0
PRODID:-//wp-events-plugin.com//7.2.3.1//EN
TZID:America/Detroit
X-WR-TIMEZONE:America/Detroit
BEGIN:VEVENT
UID:34729@arabamerica.com
DTSTART;TZID=America/Detroit:20250712T200000
DTEND;TZID=America/Detroit:20250712T220000
DTSTAMP:20250707T225103Z
URL:https://www.arabamerica.com/events/stand-up-for-plestine-comedy-fundra
 iser-2/
SUMMARY:Stand Up for P@lestine - Comedy Fundraiser
DESCRIPTION:NORCO\, CA\n\n\n\n&#x1f3a4\; Stand Up for P@lestine – A Comed
 y Fundraiser\nGet ready to laugh for a cause! Join us at Kaza Maza Mediter
 ranean Grill &amp\; Hookah Lounge for an unforgettable evening of comedy a
 nd community.\n\nNow in our fifth show\, we're bringing together a lineup 
 of hilarious comedians who will keep you laughing all night—while we rai
 se critical funds to support families in Gaza.\n\n&#x1f5d3\; Doors open at
  7 PM\n&#x1f3ad\; Show starts at 8 PM\n&#x1f4cd\; Kaza Maza Mediterranean 
 Grill &amp\; Hookah Lounge\n\nAll ticket sales go directly toward humanita
 rian aid for Palestinian families. Bring your friends\, bring your heart\,
  and let’s make a difference—one laugh at a time.\n\nSee you there! &#
 x1f49a\;
ATTACH;FMTTYPE=image/jpeg:https://www.arabamerica.com/wp-content/uploads/2
 025/07/mm.jpg
LOCATION:Kaza Maza Mediterranean Grill and Hookah Lounge\, 2395 Hamner Aven
 ue #Suite# J\, Norco\, California\, 92860\, United States
GEO:33.91617;-117.559565
X-APPLE-STRUCTURED-LOCATION;VALUE=URI;X-ADDRESS=2395 Hamner Avenue #Suite# 
 J\, Norco\, California\, 92860\, United States;X-APPLE-RADIUS=100;X-TITLE=
 Kaza Maza Mediterranean Grill and Hookah Lounge:geo:33.91617,-117.559565
END:VEVENT
BEGIN:VTIMEZONE
TZID:America/Detroit
X-LIC-LOCATION:America/Detroit
BEGIN:DAYLIGHT
DTSTART:20250309T030000
TZOFFSETFROM:-0500
TZOFFSETTO:-0400
TZNAME:EDT
END:DAYLIGHT
END:VTIMEZONE
END:VCALENDAR