BEGIN:VCALENDAR
VERSION:2.0
PRODID:-//wp-events-plugin.com//7.2.3.1//EN
TZID:America/Detroit
X-WR-TIMEZONE:America/Detroit
BEGIN:VEVENT
UID:34616@arabamerica.com
DTSTART;TZID=America/Detroit:20250628T120000
DTEND;TZID=America/Detroit:20250628T170000
DTSTAMP:20250617T223254Z
URL:https://www.arabamerica.com/events/staten-island-family-eid-festival/
SUMMARY:Staten Island Family Eid Festival
DESCRIPTION:STATEN ISLAND\, NY\n\n&nbsp\;\n\nJoin us for the First Annual S
 taten Island Family Eid Festival\, a day of celebration\, unity\, and comm
 unity!\n\nJoin us for the First Annual Staten Island Family Eid Festival\,
  a day of celebration\, unity\, and community hosted by the Staten Island 
 Muslim Association (SIMA). This is an event for the whole family to enjoy\
 , packed with exciting activities\, delicious food\, and memorable moments
 . Come together with family and friends to celebrate Eid in a fun and welc
 oming atmosphere.\n\n&nbsp\;\nWhat to Expect\n&nbsp\;\n\n1. Food &amp\; To
 y GiveawaysDelight your taste buds with a variety of traditional Eid foods
  and enjoy a special toy giveaway for children. It's a celebration for all
  ages!\n\n2. Fun Games &amp\; Activities\n\n 	Inflatable Castle: Let the k
 ids jump and play in the bouncy castle – hours of fun guaranteed!\n 	Coo
 l Games for Kids: We’ll have games to keep the little ones entertained a
 ll day long\, from carnival-style games to creative activities.\n\n3. Eid 
 BazaarExplore our vibrant Eid Bazaar featuring a wide range of vendors sel
 ling unique items\, including clothing\, jewelry\, home goods\, and much m
 ore. It's the perfect spot to find that special Eid gift!\n\n4. Raffle for
  Gaza with Amazing PrizesTake part in our Raffle for Gaza\, where you coul
 d win amazing prizes while supporting a noble cause! Prizes include:\n\n 	
 iPhone 16\n 	AirPods\n 	Flat-Screen TV\n 	And much more!\n\n5. Community &
 amp\; UnityEid is a time for coming together\, and this event is all about
  connecting with your community. Meet new friends\, reconnect with old one
 s\, and experience the joy and unity that makes Eid so special.\n\nGet Tic
 kets Here
ATTACH;FMTTYPE=image/jpeg:https://www.arabamerica.com/wp-content/uploads/2
 025/06/Screenshot-2025-06-17-at-6.27.12-PM.png
CATEGORIES:#arabic,Arab American,Community,culture,Food
LOCATION:1000 Richmond Ter\, 1000 Richmond Terrace\, Staten Island\, NY\, 1
 0301\, United States
GEO:40.64456;-74.102753
X-APPLE-STRUCTURED-LOCATION;VALUE=URI;X-ADDRESS=1000 Richmond Terrace\, Sta
 ten Island\, NY\, 10301\, United States;X-APPLE-RADIUS=100;X-TITLE=1000 Ri
 chmond Ter:geo:40.64456,-74.102753
END:VEVENT
BEGIN:VTIMEZONE
TZID:America/Detroit
X-LIC-LOCATION:America/Detroit
BEGIN:DAYLIGHT
DTSTART:20250309T030000
TZOFFSETFROM:-0500
TZOFFSETTO:-0400
TZNAME:EDT
END:DAYLIGHT
END:VTIMEZONE
END:VCALENDAR