BEGIN:VCALENDAR
VERSION:2.0
PRODID:-//wp-events-plugin.com//7.2.3.1//EN
TZID:America/Detroit
X-WR-TIMEZONE:America/Detroit
BEGIN:VEVENT
UID:35876@arabamerica.com
DTSTART;TZID=America/Detroit:20260307T163000
DTEND;TZID=America/Detroit:20260307T193000
DTSTAMP:20260216T213034Z
URL:https://www.arabamerica.com/events/stories-at-sunset/
SUMMARY:Stories at Sunset
DESCRIPTION:Join us this Ramadan for a special iftar rooted in storytelling
 \, shared plates\, and collective care\, in support of We Will Return.\n\n
 Hear firsthand reflections from the We Will Return team about their recent
  journey to Jordan\, where they distributed aid across refugee camps\, sat
  with families\, and helped build bridges of hope for Palestinian refugees
 .\n\nBring your friends\, your cozy vibes\, and get ready to be inspired w
 ith wonderful community and tasty iftar. All ticket sales directly support
 s We Will Return’s mission to provide relief\, champion education\, and 
 fuel grassroots activism for Palestinian refugees.\n\nwewillreturn.org
ATTACH;FMTTYPE=image/jpeg:https://www.arabamerica.com/wp-content/uploads/2
 026/02/image-11-1.webp
LOCATION:Semilla Cafe + Studio\, 1283 Main Street\, Hartford\, CT\, 06103\,
  United States
GEO:41.771951;-72.676232
X-APPLE-STRUCTURED-LOCATION;VALUE=URI;X-ADDRESS=1283 Main Street\, Hartford
 \, CT\, 06103\, United States;X-APPLE-RADIUS=100;X-TITLE=Semilla Cafe + St
 udio:geo:41.771951,-72.676232
END:VEVENT
BEGIN:VTIMEZONE
TZID:America/Detroit
X-LIC-LOCATION:America/Detroit
BEGIN:STANDARD
DTSTART:20251102T010000
TZOFFSETFROM:-0400
TZOFFSETTO:-0500
TZNAME:EST
END:STANDARD
END:VTIMEZONE
END:VCALENDAR