BEGIN:VCALENDAR
VERSION:2.0
PRODID:-//wp-events-plugin.com//7.2.3.1//EN
TZID:America/Detroit
X-WR-TIMEZONE:America/Detroit
BEGIN:VEVENT
UID:35101@arabamerica.com
DTSTART;TZID=America/New_York:20250921T103000
DTEND;TZID=America/New_York:20250921T113000
DTSTAMP:20250910T002639Z
URL:https://www.arabamerica.com/events/story-time-in-arabic-2/
SUMMARY:Story time in Arabic
DESCRIPTION:BROOKLYN\, NY\n\nCome join us at Huda New Levantine Bistro fo
 r toddler story hour in Arabic! This small group gathers to read stories\,
  play games\, and sing songs in Arabic\, offering a unique opportunity for
  exposure to Arabic language and culture!\n\nThis is a self organized\, vo
 lunteer-based event. Participating parents will be asked to bring and read
  books and lead activities.
LOCATION:Huda New Levantine Bistro\, 312 Leonard Street \, Brooklyn \, NY\,
  United States
GEO:40.715056;-73.94773
X-APPLE-STRUCTURED-LOCATION;VALUE=URI;X-ADDRESS=312 Leonard Street \, Brook
 lyn \, NY\, United States;X-APPLE-RADIUS=100;X-TITLE=Huda New Levantine Bi
 stro:geo:40.715056,-73.94773
END:VEVENT
BEGIN:VTIMEZONE
TZID:America/New_York
X-LIC-LOCATION:America/New_York
BEGIN:DAYLIGHT
DTSTART:20250309T030000
TZOFFSETFROM:-0500
TZOFFSETTO:-0400
TZNAME:EDT
END:DAYLIGHT
END:VTIMEZONE
END:VCALENDAR