BEGIN:VCALENDAR
VERSION:2.0
PRODID:-//wp-events-plugin.com//7.2.3.1//EN
TZID:America/Detroit
X-WR-TIMEZONE:America/Detroit
BEGIN:VEVENT
UID:35175@arabamerica.com
DTSTART;TZID=America/New_York:20251019T103000
DTEND;TZID=America/New_York:20251019T113000
DTSTAMP:20250930T164146Z
URL:https://www.arabamerica.com/events/story-time-in-arabic-3/
SUMMARY:Story time in Arabic
DESCRIPTION:BROOKLYN\, NY\n\n&nbsp\;\n\nJoin us for story time in Arabic! T
 his monthly event brings together a small group of toddlers and parents fo
 r book readings and activities.\n\n\n\nCome join us at Huda New Levantine 
 Bistro for toddler story hour in Arabic! This small group gathers to read 
 stories\, play games\, and sing songs in Arabic\, offering a unique opport
 unity for exposure to Arabic language and culture!\n\nThis is a self organ
 ized\, volunteer-based event. Participating parents will be asked to bring
  and read books and lead activities.\n\nGET TICKETS HERE
ATTACH;FMTTYPE=image/jpeg:https://www.arabamerica.com/wp-content/uploads/2
 025/09/Screenshot-2025-09-30-at-12.35.39-PM.png
LOCATION:Huda New Levantine Bistro\, 312 Leonard Street \, Brooklyn \, NY\,
  United States
GEO:40.715056;-73.94773
X-APPLE-STRUCTURED-LOCATION;VALUE=URI;X-ADDRESS=312 Leonard Street \, Brook
 lyn \, NY\, United States;X-APPLE-RADIUS=100;X-TITLE=Huda New Levantine Bi
 stro:geo:40.715056,-73.94773
END:VEVENT
BEGIN:VTIMEZONE
TZID:America/New_York
X-LIC-LOCATION:America/New_York
BEGIN:DAYLIGHT
DTSTART:20250309T030000
TZOFFSETFROM:-0500
TZOFFSETTO:-0400
TZNAME:EDT
END:DAYLIGHT
END:VTIMEZONE
END:VCALENDAR