BEGIN:VCALENDAR
VERSION:2.0
PRODID:-//wp-events-plugin.com//7.2.3.1//EN
TZID:America/Detroit
X-WR-TIMEZONE:America/Detroit
BEGIN:VEVENT
UID:34690@arabamerica.com
DTSTART;TZID=America/Detroit:20250713T103000
DTEND;TZID=America/Detroit:20250713T113000
DTSTAMP:20250702T134507Z
URL:https://www.arabamerica.com/events/story-time-in-arabic/
SUMMARY:Story time in Arabic
DESCRIPTION:BROOKLYN\, NY\n\n\n\nJoin us for a story time in Arabic! This m
 onthly event brings together a small group of toddlers and their parents f
 or book readings and activities.\n\nAge 10mo - 4yo\n\nPlease note space is
  limited. One child per ticket. Children can be accompanied by up to two a
 dults.
ATTACH;FMTTYPE=image/jpeg:https://www.arabamerica.com/wp-content/uploads/2
 025/07/lll.jpg
LOCATION:Huda New Levantine Bistro\, 312 Leonard Street \, Brooklyn\, New Y
 ork\, 11211\, United States
GEO:40.715056;-73.94773
X-APPLE-STRUCTURED-LOCATION;VALUE=URI;X-ADDRESS=312 Leonard Street \, Brook
 lyn\, New York\, 11211\, United States;X-APPLE-RADIUS=100;X-TITLE=Huda New
  Levantine Bistro:geo:40.715056,-73.94773
END:VEVENT
BEGIN:VTIMEZONE
TZID:America/Detroit
X-LIC-LOCATION:America/Detroit
BEGIN:DAYLIGHT
DTSTART:20250309T030000
TZOFFSETFROM:-0500
TZOFFSETTO:-0400
TZNAME:EDT
END:DAYLIGHT
END:VTIMEZONE
END:VCALENDAR