BEGIN:VCALENDAR
VERSION:2.0
PRODID:-//wp-events-plugin.com//7.2.3.1//EN
TZID:America/Detroit
X-WR-TIMEZONE:America/Detroit
BEGIN:VEVENT
UID:34292@arabamerica.com
DTSTART;TZID=America/Detroit:20250516T190000
DTEND;TZID=America/Detroit:20250516T220000
DTSTAMP:20250413T210128Z
URL:https://www.arabamerica.com/events/storyville-stand-up-for-madinah-by-
 zainab-sultan/
SUMMARY:Storyville: Stand Up for Madinah by Zainab Sultan
DESCRIPTION:PHILADELPHIA\, PA\n\nStand Up for Madinah by Zainab Sultan (USA
 \, 2024\, 25 minutes)\n\nThis story follows Madinah Wilson-Anton\, an Afri
 can American woman elected as Delaware’s first elected Muslim State Repr
 esentative. She opposes U.S. support for Israel and fights to pass a cease
 fire resolution. Members of her own Democratic party threaten to censure h
 er over her outspoken pro-Palestinian stance\, and she faces abuse and tro
 lling online. Despite this\, Wilson-Anton persevered and introduced a reso
 lution in the Delaware House calling for a permanent end to Israel’s war
  on Gaza. She advocates for her community as a politician and she challeng
 es perceptions of it in her free time as a budding stand-up comedian. The 
 film premiered on Al Jazeera English.\n\nZainab Sultan is an award-winning
  journalist and documentary filmmaker. She is also on the steering committ
 ee of Bitchitra Collective: Indian Women in Documentary\, an organization 
 advocating for the collective rights of women and non-binary filmmakers of
  Indian origin in US and India. Her work has been featured in the Columbia
  Journalism Review\, Al Jazeera English\, U.S. News and others. She is a g
 raduate of the documentary program at Columbia University.
ATTACH;FMTTYPE=image/jpeg:https://www.arabamerica.com/wp-content/uploads/2
 025/04/Screenshot-2025-04-13-at-5.08.21 PM.png
LOCATION:Scribe Video Center\, 3908 Lancaster Avenue\, Philadelphia\, PA\, 
 19104\, United States
GEO:39.962076;-75.200728
X-APPLE-STRUCTURED-LOCATION;VALUE=URI;X-ADDRESS=3908 Lancaster Avenue\, Phi
 ladelphia\, PA\, 19104\, United States;X-APPLE-RADIUS=100;X-TITLE=Scribe V
 ideo Center:geo:39.962076,-75.200728
END:VEVENT
BEGIN:VTIMEZONE
TZID:America/Detroit
X-LIC-LOCATION:America/Detroit
BEGIN:DAYLIGHT
DTSTART:20250309T030000
TZOFFSETFROM:-0500
TZOFFSETTO:-0400
TZNAME:EDT
END:DAYLIGHT
END:VTIMEZONE
END:VCALENDAR