BEGIN:VCALENDAR
VERSION:2.0
PRODID:-//wp-events-plugin.com//7.2.3.1//EN
TZID:America/Detroit
X-WR-TIMEZONE:America/Detroit
BEGIN:VEVENT
UID:32107@arabamerica.com
DTSTART;TZID=America/Detroit:20240129T180000
DTEND;TZID=America/Detroit:20240129T185000
DTSTAMP:20240123T025238Z
URL:https://www.arabamerica.com/events/students-for-justice-in-palestine-w
 eekly-meeting/
SUMMARY:Students for Justice in Palestine Weekly Meeting
DESCRIPTION:Middlebury\, VT. Join SJP for our weekly meetings if you are in
 terested in how Palestinian liberation is realized worldwide\, including r
 ight here in Middlebury!
CATEGORIES:Arab American,Community,culture,Discussion
LOCATION:Chellis Living Room/Seminar Room\, 56 Hillcrest Road\, Middlebury\
 , VT\, United States
GEO:44.009383;-73.180511
X-APPLE-STRUCTURED-LOCATION;VALUE=URI;X-ADDRESS=56 Hillcrest Road\, Middleb
 ury\, VT\, United States;X-APPLE-RADIUS=100;X-TITLE=Chellis Living Room/Se
 minar Room:geo:44.009383,-73.180511
END:VEVENT
BEGIN:VTIMEZONE
TZID:America/Detroit
X-LIC-LOCATION:America/Detroit
BEGIN:STANDARD
DTSTART:20231105T010000
TZOFFSETFROM:-0400
TZOFFSETTO:-0500
TZNAME:EST
END:STANDARD
END:VTIMEZONE
END:VCALENDAR