BEGIN:VCALENDAR
VERSION:2.0
PRODID:-//wp-events-plugin.com//7.2.3.1//EN
TZID:America/Detroit
X-WR-TIMEZONE:America/Detroit
BEGIN:VEVENT
UID:32373@arabamerica.com
DTSTART;TZID=America/Detroit:20240323T170000
DTEND;TZID=America/Detroit:20240323T220000
DTSTAMP:20240304T172720Z
URL:https://www.arabamerica.com/events/sudan-fundraiser-dinner/
SUMMARY:Sudan Fundraiser Dinner
DESCRIPTION:[caption id="attachment_245766" align="alignnone" width="300"] 
 Act for Sudan Now's promotional poster[/caption]\n\n&nbsp\;\n\nNORTHEAST M
 INNEAPOLIS\, MINNESOTA\n\nJoin ARAHA\, Sh. Kamal El-Mekki &amp\; our Sudan
 ese Community for an urgent fundraiser. Let's Learn\, support\, and act to
 gether. #ActforSudanNow
ATTACH;FMTTYPE=image/jpeg:https://www.arabamerica.com/wp-content/uploads/2
 024/03/Actor-Sudan-Now-promotional-poster-.png
END:VEVENT
BEGIN:VTIMEZONE
TZID:America/Detroit
X-LIC-LOCATION:America/Detroit
BEGIN:DAYLIGHT
DTSTART:20240310T030000
TZOFFSETFROM:-0500
TZOFFSETTO:-0400
TZNAME:EDT
END:DAYLIGHT
END:VTIMEZONE
END:VCALENDAR