BEGIN:VCALENDAR
VERSION:2.0
PRODID:-//wp-events-plugin.com//7.2.3.1//EN
TZID:America/Detroit
X-WR-TIMEZONE:America/Detroit
BEGIN:VEVENT
UID:35572@arabamerica.com
DTSTART:20260325T000000Z
DTEND:20260325T023000Z
DTSTAMP:20251216T170738Z
URL:https://www.arabamerica.com/events/suenos-de-al-andalus/
SUMMARY:Sueños de al-Andalus
DESCRIPTION:\n\nOverview\n\n\n\n\n\n¡Ven y sumérgete en la magia de la é
 poca de al-Andalus con nuestra celebración de Sueños de al-Andalus!\n\n\
 n\n\nAn incredible synthesis took place in medieval al-Andalus where spiri
 ted\, enchanting music was created\, enriched by many cultures from North 
 Africa and around the Mediterranean that included Jewish\, Christian\, and
  Islamic influences. We welcome you to the joy and spirit of this world\, 
 performed by the renowned Musica Antigua from Spain.\n\nReception and CD s
 ale follow the performance.\n\n\n\n\n\n
LOCATION:Julia Ideson Building\, 550 McKinney Street\, Houston\, TX\, 77002
 \, United States
GEO:29.758875;-95.369134
X-APPLE-STRUCTURED-LOCATION;VALUE=URI;X-ADDRESS=550 McKinney Street\, Houst
 on\, TX\, 77002\, United States;X-APPLE-RADIUS=100;X-TITLE=Julia Ideson Bu
 ilding:geo:29.758875,-95.369134
END:VEVENT
END:VCALENDAR