BEGIN:VCALENDAR
VERSION:2.0
PRODID:-//wp-events-plugin.com//7.2.3.1//EN
TZID:America/Detroit
X-WR-TIMEZONE:America/Detroit
BEGIN:VEVENT
UID:35089@arabamerica.com
DTSTART;TZID=America/Detroit:20251003T183000
DTEND;TZID=America/Detroit:20251003T183000
DTSTAMP:20250908T114909Z
URL:https://www.arabamerica.com/events/suffahs-2025-graduation-benefit-din
 ner/
SUMMARY:Suffah's 2025 Graduation & Benefit Dinner
DESCRIPTION:BENSENVILLE\, IL\n\n\n\nAsalamu-Alaikum WaRahmatullahi WaBaraka
 tuhu!\n\nI would like to cordially invite you to Suffah Educational Guidan
 ce's 9th Hifz Graduation Ceremony and our organization's Benefit Dinner. A
 lhumdulillah\, by the grace of Allah\, we have had more than 10 students b
 ecome Hafiz of the Holy Qur’an in the past year\, whom we will be recogn
 izing at our graduation ceremony on October 3rd\, 2025\, at Monty's Elegan
 t Banquet. We will also be recognizing our adult students who will be grad
 uating from the 2 Year Arabic Studies Program. We would be honored to have
  your presence at this auspicious event and we hope you can join us in con
 gratulating our students on this incredible achievement.\n\nJazakumullahu 
 Khairan\,\n\nQari Abdul Mannan\n\nPresident of Suffah Educational Guidance
ATTACH;FMTTYPE=image/jpeg:https://www.arabamerica.com/wp-content/uploads/2
 025/09/ILL.jpeg
LOCATION:Monty's Elegant Banquets\, 703 South York Road \, Bensenville\, IL
 \, 60106\, United States
GEO:41.940624;-87.938972
X-APPLE-STRUCTURED-LOCATION;VALUE=URI;X-ADDRESS=703 South York Road \, Bens
 enville\, IL\, 60106\, United States;X-APPLE-RADIUS=100;X-TITLE=Monty's El
 egant Banquets:geo:41.940624,-87.938972
END:VEVENT
BEGIN:VTIMEZONE
TZID:America/Detroit
X-LIC-LOCATION:America/Detroit
BEGIN:DAYLIGHT
DTSTART:20250309T030000
TZOFFSETFROM:-0500
TZOFFSETTO:-0400
TZNAME:EDT
END:DAYLIGHT
END:VTIMEZONE
END:VCALENDAR