BEGIN:VCALENDAR
VERSION:2.0
PRODID:-//wp-events-plugin.com//7.2.3.1//EN
TZID:America/Detroit
X-WR-TIMEZONE:America/Detroit
BEGIN:VEVENT
UID:35553@arabamerica.com
DTSTART:20260111T170000Z
DTEND:20260614T183000Z
DTSTAMP:20260317T014845Z
URL:https://www.arabamerica.com/events/sufi-heart-based-meditation-practic
 e/
SUMMARY:Sufi Heart-based Meditation Practice
DESCRIPTION:\n\nNOVATO\, CA\nOverview\n\n\n\n\n\n\n\nHeart-Based Meditation
  based on teachings of Sufi Masters\, Dr Nahid Angha and Dr. Ali Kianfar\n
 \n\n\n\nThis class is designed for those interested in meditation accordin
 g to the heart-based 40 Days teachings of Sufi Masters Dr. Nahid Angha and
  Shah Nazar Seyed Dr. Ali Kianfar. The heart-based practice is a system ba
 sed on the centrality of the heart in discovering inner knowledge as one t
 ravels the transformative spiritual journey toward Self-knowledge.\n\n6 Cl
 ass series - participants may attend in-person or on zoom.\n\nDates are Su
 ndays: 1/11\, 2/8\, 3/8\, 4/12\, 5/17\, 6/14\; from 9-10:30 AM PST\n\n\n\n
 \n\n
ATTACH;FMTTYPE=image/jpeg:https://www.arabamerica.com/wp-content/uploads/2
 021/11/sufi4.jpg
LOCATION:International Association of Sufism\, 14 Commercial Boulevard #101
 \, Novato\, CA\, 94949\, United States
GEO:38.068439;-122.532102
X-APPLE-STRUCTURED-LOCATION;VALUE=URI;X-ADDRESS=14 Commercial Boulevard #10
 1\, Novato\, CA\, 94949\, United States;X-APPLE-RADIUS=100;X-TITLE=Interna
 tional Association of Sufism:geo:38.068439,-122.532102
END:VEVENT
END:VCALENDAR