BEGIN:VCALENDAR
VERSION:2.0
PRODID:-//wp-events-plugin.com//7.2.3.1//EN
TZID:America/Detroit
X-WR-TIMEZONE:America/Detroit
BEGIN:VEVENT
UID:35160@arabamerica.com
DTSTART;TZID=America/New_York:20250928T000000
DTEND;TZID=America/New_York:20250928T180000
DTSTAMP:20250924T192222Z
URL:https://www.arabamerica.com/events/sumud-centuries-of-resilience-pales
 tine-showcase/
SUMMARY:Sumud: Centuries of Resilience\; Palestine Showcase
DESCRIPTION:WOODLAND PARK\, NJ\n\nSumud: Centuries of Resilience\; Palestin
 e Showcase\n\nWelcome to a showcase of Palestinian culture and history 
 like no other! Join us for a day filled with art\, education\, and comm
 unity. Explore the rich history and resilience of the Palestinian people
  through various showcases and performances. Let's come together to honor 
 and appreciate the centuries of resilience that have shaped Palestine. S
 ee you there!
ATTACH;FMTTYPE=image/jpeg:https://www.arabamerica.com/wp-content/uploads/2
 025/09/Screen-Shot-2025-09-24-at-3.21.29-PM.png
LOCATION:Rifle Camp Park Amphitheater\, 387 Rifle Camp Road\, Woodland Park
 \, New Jersey\, 07424\, United States
GEO:40.88631;-74.187115
X-APPLE-STRUCTURED-LOCATION;VALUE=URI;X-ADDRESS=387 Rifle Camp Road\, Woodl
 and Park\, New Jersey\, 07424\, United States;X-APPLE-RADIUS=100;X-TITLE=R
 ifle Camp Park Amphitheater:geo:40.88631,-74.187115
END:VEVENT
BEGIN:VTIMEZONE
TZID:America/New_York
X-LIC-LOCATION:America/New_York
BEGIN:DAYLIGHT
DTSTART:20250309T030000
TZOFFSETFROM:-0500
TZOFFSETTO:-0400
TZNAME:EDT
END:DAYLIGHT
END:VTIMEZONE
END:VCALENDAR