BEGIN:VCALENDAR
VERSION:2.0
PRODID:-//wp-events-plugin.com//7.2.3.1//EN
TZID:America/Detroit
X-WR-TIMEZONE:America/Detroit
BEGIN:VEVENT
UID:35866@arabamerica.com
DTSTART;TZID=America/Detroit:20260221T150000
DTEND;TZID=America/Detroit:20260314T170000
DTSTAMP:20260215T170811Z
URL:https://www.arabamerica.com/events/sunnah-saturday-ramadan-2026/
SUMMARY:Sunnah Saturday: Ramadan 2026
DESCRIPTION:Middle school boys gather for brotherhood\, short reminders\, a
 nd fun activities in an exciting Ramadan program at the masjid! Sunnah Sat
 urday is BACK! &#x1f319\;&#x1f54c\; – Ramadan Edition. Alḥamdulillāh\
 , we’re excited to announce the return of Sunnah Saturday — our signat
 ure weekly program designed exclusively for middle school boys (6th–8th 
 grade)\, now with a special Ramadan edition.
ATTACH;FMTTYPE=image/jpeg:https://www.arabamerica.com/wp-content/uploads/2
 026/02/image-22.webp
CATEGORIES:Islam for kids,Islamic Center,Youth,youth development
LOCATION:Islamic Center of Detroit\, 14350 Tireman Avenue\, Detroit\, MI\, 
 48228\, United States
GEO:42.3517409;-83.18386900000002
X-APPLE-STRUCTURED-LOCATION;VALUE=URI;X-ADDRESS=14350 Tireman Avenue\, Detr
 oit\, MI\, 48228\, United States;X-APPLE-RADIUS=100;X-TITLE=Islamic Center
  of Detroit:geo:42.3517409,-83.18386900000002
END:VEVENT
BEGIN:VTIMEZONE
TZID:America/Detroit
X-LIC-LOCATION:America/Detroit
BEGIN:STANDARD
DTSTART:20251102T010000
TZOFFSETFROM:-0400
TZOFFSETTO:-0500
TZNAME:EST
END:STANDARD
BEGIN:DAYLIGHT
DTSTART:20260308T030000
TZOFFSETFROM:-0500
TZOFFSETTO:-0400
TZNAME:EDT
END:DAYLIGHT
END:VTIMEZONE
END:VCALENDAR