BEGIN:VCALENDAR
VERSION:2.0
PRODID:-//wp-events-plugin.com//7.2.3.1//EN
TZID:America/Detroit
X-WR-TIMEZONE:America/Detroit
BEGIN:VEVENT
UID:32864@arabamerica.com
DTSTART;TZID=America/Detroit:20240526T020000
DTEND;TZID=America/Detroit:20240526T170000
DTSTAMP:20240521T015408Z
URL:https://www.arabamerica.com/events/support-pro-palestine-protesters-fu
 ndraiser-in-west-los-angeles/
SUMMARY:Support Pro-Palestine Protesters FUNdraiser in West Los Angeles
DESCRIPTION:LANDERA HEIGHTS\, CA\n\n\nCome join us in West LA to support pr
 o-Palestine protesters and meet likeminded community members at our fundra
 iser event!\n\n\n\n\n\n\n\n\n\n\nWelcome to the Support Pro-Palestine Prot
 esters FUNdraiser in West Los Angeles! Join us for a day of solidarity and
  support in Ladera Heights (west LA). Show your support for the cause and 
 help raise funds for a great purpose.\n\nWe will make cards to cheer on st
 udent and community protesters\, as well as meet like-minded members of th
 e community who care about this cause. All supplies will be included. Just
  bring yourself and a friend or two.\n\nLet's come together to make a diff
 erence and stand up for what we believe in. Don't miss out on this opportu
 nity to be part of something meaningful. See you there!\n\n\n\n\n\n\n\n\n\
 n\n\n\n\n\n\n\n\n
ATTACH;FMTTYPE=image/jpeg:https://www.arabamerica.com/wp-content/uploads/2
 024/05/temp-24.jpg
LOCATION:Landera Heights\, Landera Heights\, Landera Heights\, California\,
  United States
GEO:33.987776;-118.37037
X-APPLE-STRUCTURED-LOCATION;VALUE=URI;X-ADDRESS=Landera Heights\, Landera H
 eights\, California\, United States;X-APPLE-RADIUS=100;X-TITLE=Landera Hei
 ghts:geo:33.987776,-118.37037
END:VEVENT
BEGIN:VTIMEZONE
TZID:America/Detroit
X-LIC-LOCATION:America/Detroit
BEGIN:DAYLIGHT
DTSTART:20240310T030000
TZOFFSETFROM:-0500
TZOFFSETTO:-0400
TZNAME:EDT
END:DAYLIGHT
END:VTIMEZONE
END:VCALENDAR