BEGIN:VCALENDAR
VERSION:2.0
PRODID:-//wp-events-plugin.com//7.2.3.1//EN
TZID:America/Detroit
X-WR-TIMEZONE:America/Detroit
BEGIN:VEVENT
UID:30438@arabamerica.com
DTSTART;TZID=America/Detroit:20230502T160000
DTEND;TZID=America/Detroit:20230502T193000
DTSTAMP:20230208T015613Z
URL:https://www.arabamerica.com/events/sura-arts-academy-youth-workshops/
SUMMARY:SURA Arts Academy Youth Workshops
DESCRIPTION:DETROIT\, MI\nSURA Arts Academy Youth Workshops\n4-7:30 p.m. ET
  Tuesdays and Thursdays\, May 2-16\, 2023 \n$50 single workshop | $250 fu
 ll workshop package\n\nLINKS BELOW TO REGISTER. Scholarships available bas
 ed on financial need + availability. SURA scholarship application\n\n\nSe
 e the world through the lens of photography this spring!\n\nThis year\, AA
 NM is pleased to introduce a series of youth-focused workshops\, where stu
 dents will learn and be immersed in the art of photography! AANM’s oldes
 t running youth program\, SURA Arts Academy helps students learn about t
 he power of photography as a tool to share their story with the world.\nYo
 uth can sign up for one\, several or all workshops.\nThese courses will al
 l take place at AANM and are designed for students ages 14-18. Each day wi
 ll be full of activities\, photo scavenger hunts and snapping breathtaking
  photos!\nStudents must have their own DSLR camera or use a camera provide
 d by AANM. No experience necessary to participate.\n\nStudents’ work wil
 l be celebrated in the annual SURA Student Photography Exhibition at AANM 
 in late 2023. Individuals who sign up for all workshops will get a complim
 entary AANM membership! Discounts associated with membership can be used f
 or future SURA programs\, among other programs and events.\nREGISTER HERE 
 for full workshop package or register for individual workshops below:\n\n
 SPRING 2023 WORKSHOP SCHEDULE\n(locations subject to change\, pending weat
 her and other factors):\nTuesday\, May 2: Camera Crash Course — REGISTER
 \nUnderstand the basics of your camera and how to take a good photo.\nThur
 sday\, May 4: Creative Photography — REGISTER\nStudents will use water\,
  flowers\, cardboard and other everyday materials to take their photos to 
 the next level.\nTuesday\, May 9: Portrait Photography — REGISTER\nWe al
 l take selfies and photos of family/friends. Learn how to master those pho
 tos in our portrait workshop.\nThursday\, May 11: Food Photography — REG
 ISTER\nIf you’re the type to photograph a delicious meal\, you’re cert
 ainly not alone! Get a hands-on photo lesson on how to capture your meal i
 n the perfect photo.\nTuesday\, May 16: Learning how to edit your photos 
 — REGISTER\nThose beautiful trees\, that perfect sky\, those cute ducks 
 in the background! Learn how to make them stand out by honing your editing
  skills and attention to detail.\nFor more questions\, e-mail Dave Serio a
 t DSerio@accesscommunity.org
ATTACH;FMTTYPE=image/jpeg:https://www.arabamerica.com/wp-content/uploads/2
 023/02/Screenshot-2023-02-07-at-8.51.05-PM.png
CATEGORIES:Community
LOCATION:Arab American National Museum\, 13624 Michigan Avenue\, Dearborn \
 , MI\, 48126\, United States
GEO:42.3222224;-83.1766346
X-APPLE-STRUCTURED-LOCATION;VALUE=URI;X-ADDRESS=13624 Michigan Avenue\, Dea
 rborn \, MI\, 48126\, United States;X-APPLE-RADIUS=100;X-TITLE=Arab Americ
 an National Museum:geo:42.3222224,-83.1766346
END:VEVENT
BEGIN:VTIMEZONE
TZID:America/Detroit
X-LIC-LOCATION:America/Detroit
BEGIN:DAYLIGHT
DTSTART:20230312T030000
TZOFFSETFROM:-0500
TZOFFSETTO:-0400
TZNAME:EDT
END:DAYLIGHT
END:VTIMEZONE
END:VCALENDAR