BEGIN:VCALENDAR
VERSION:2.0
PRODID:-//wp-events-plugin.com//7.2.3.1//EN
TZID:America/Detroit
X-WR-TIMEZONE:America/Detroit
BEGIN:VEVENT
UID:35037@arabamerica.com
DTSTART;TZID=America/Detroit:20251023T173000
DTEND;TZID=America/Detroit:20251023T210000
DTSTAMP:20250827T020738Z
URL:https://www.arabamerica.com/events/switch-social-supper-club-taste-of-
 greece-and-moroccan-street-food/
SUMMARY:Switch Social Supper Club: Taste of Greece and Moroccan Street Food
DESCRIPTION:COLUMBUS\, OH\n\n&nbsp\;\n\nIndulge in a chef-crafted 5-course 
 supper by Taste of Greece and Moroccan Street Food perfectly paired with w
 ine.\n\nJoin us for a fun\, informational\, and indulgent evening at Switc
 h Bourbon &amp\; Tequila Bar on Thursday\, October 23rd for our newest Swi
 tch Social series\, Supper Club.\n\nCome solo\, with a date\, or in a grou
 p! Tasting events are a great way to experience new flavors and meet other
  local enthusiasts. All guests are invited to arrive as early as 5:30PM to
  mingle with old and new friends before finding a seat. Supper will begin 
 promptly at 6PM.\n\nCOURSES:\n\n 	Moroccan Salad - cucumber\, onion\, toma
 toes\, roasted red pepper\n 	Couscous Salad - semolina couscous\, colorful
  vegetables\, feta cheese\, olives\, garbanzo beans\,fresh lemon herb dres
 sing\n 	Beef Tajine - beef with pitted prunes and sesame seeds\n 	Chicken 
 Tajine - roasted chicken with homemade lemon sauce and green olives\n 	Bak
 lava\n\n&nbsp\;\n\n&nbsp\;\n\nSave the date for future Switch Social Suppe
 r Club events:\n\nNovember 6 - Masa Mexican Grill\n\nNovember 20 - Yellow 
 Brick Pizza\n\n&nbsp\;\n\n&nbsp\;\n\nAll guests must be 21+.\n\nGET TICKET
 S HERE
ATTACH;FMTTYPE=image/jpeg:https://www.arabamerica.com/wp-content/uploads/2
 025/08/Screenshot-2025-08-26-at-10.01.59-PM.png
LOCATION:Switch Columbus\, 212 Kelton Avenue\, Columbus \, OH\, 43205\, Uni
 ted States
GEO:39.96252;-82.958024
X-APPLE-STRUCTURED-LOCATION;VALUE=URI;X-ADDRESS=212 Kelton Avenue\, Columbu
 s \, OH\, 43205\, United States;X-APPLE-RADIUS=100;X-TITLE=Switch Columbus
 :geo:39.96252,-82.958024
END:VEVENT
BEGIN:VTIMEZONE
TZID:America/Detroit
X-LIC-LOCATION:America/Detroit
BEGIN:DAYLIGHT
DTSTART:20250309T030000
TZOFFSETFROM:-0500
TZOFFSETTO:-0400
TZNAME:EDT
END:DAYLIGHT
END:VTIMEZONE
END:VCALENDAR